BEGIN:VCALENDAR
VERSION:2.0
PRODID:-//wp-events-plugin.com//7.2.3.1//EN
TZID:Europe/Berlin
X-WR-TIMEZONE:Europe/Berlin
BEGIN:VEVENT
UID:3184@frauenportal.koeln
DTSTART;TZID=Europe/Berlin;VALUE=DATE:20210305
DTEND;TZID=Europe/Berlin;VALUE=DATE:20210306
DTSTAMP:20210219T094511Z
URL:https://frauenportal.koeln/veranstaltungen/start-netzwerk-ladoc-konfer
 enz/
SUMMARY:Start: NetzWerk – LaDOC Konferenz
DESCRIPTION:– 5. bis 7. März 2021 –\n\nDigitale Kommunikation hat in d
 en vergangenen Monaten ihren gesellschaftlichen Stellenwert extrem erhöht
  und uns alle in nie dagewesener Dauerschleife vor den Bildschirm gesetzt.
 \nAber wie gleichberechtigt sitzen wir vor unseren Computern\, wie verteil
 t sich Aufmerksamkeit und wer gestaltet die digitalen sozialen Netzwerke u
 nd Räume? Die LaDOC-Konferenz NetzWerk / Radio geht diesen Fragen nach\, 
 erfindet dafür ein neues Format und erlöst alle Teilnehmer*innen von Stu
 nden vor dem Laptop.\n\nWillkommen beim audiovisuellen Radio!\n\nAlle sind
  eingeladen zum Zuhören\, ab und an auch zum Zuschauen\, zum Diskutieren 
 und Fantasieren über die Zukunft einer gerechten Teilhabe aller Menschen 
 im Netz.\n\n„Ein Bild abgeben“\, „dieselbe Sprache sprechen“\, den
  eigenen Worten „Gewicht verleihen“\; was in der Präsenz unmittelbar 
 zusammenspielt\, muss auf digitalen Plattformen als Wirkung neu erfunden w
 erden. Wie schneiden Frauen in diesem aufgeheizten Wettbewerb um digitale 
 Aufmerksamkeit ab? LaDOC knüpft mit dieser Frage an die erste Konferenz "
 Wendepunkte" (2016) an\, in der Arbeitsbiografien von Filmemacherinnen unt
 erschiedlicher Generationen auf markante Bruchstellen untersucht wurden. E
 s zeigten sich klare Muster. Welche Muster sind jetzt gerade im Begriff si
 ch zu verfestigen? Die Erweiterung der sozialen Welt ins Digitale eröffne
 t Möglichkeiten\, die von Frauen und für Frauen genutzt werden können\,
  aber auch solche einer massiven Landnahme gegen Frauen.\n\nAlgorithmen tr
 agen sexistische und rassistische Vorurteile ins Netz\, wo sie bestehende 
 Machtverhältnisse verstärken oder gar neu beleben.\n\nDie begeisterte WI
 KIPEDIAnerin Elke Wetzig beschreibt\, wie Relevanz der Arbeit von Frauen d
 urch Sprache geschaffen werden kann\, und die ehemalige GRÜNEN-Abgeordnet
 e Christa Nickels\, wie sie ihre Sprache im Deutschen Bundestag politisch 
 durchsetzen konnte.\n\nDie Medienphilosophin Ariana Dongus spricht über M
 aschinenintelligenz und Technologie als gesellschaftliche Aktivität und F
 atima Fay Kastner\, Professorin für Globalisierungsdiskurse und digitale 
 Transformation\, analysiert\, wie mit dem Anschluss an das digitale (Arbei
 ts-)leben der Ausschluss einzelner Bevölkerungsgruppen einhergeht.\n\nKat
 rin Fritsch und Helene von Schwichow vom Thinktank MOTIF fordern uns auf\,
  Science-Fiction Erzählungen unserer digitalen Zukunft zu schreiben\, in 
 der Teilhabe und Diversität selbstverständlich sein können.\n\nDie Gesp
 räche und der Workshop werden begleitet von einem popfeministischen Musik
 programm der Kulturpoetin Anna Seidel.\n\nDie Filmkuratorin Madeleine Bern
 storff wendet das Radioprogramm mit einer Kurzfilmauswahl immer wieder ins
  Visuelle.\n\nWie nebenbei entstehen so Raum und Zeit für die eigene Zuku
 nft!\n\nFreitag\, 5. März: 19 – ca. 20.30 Uhr\nSamstag\, 6. März: 14 
 – 20.30 Uhr\nSonntag\, 7. März: 14 – 20:30 Uhr\n\nMehr dazu: ladoc.de
 /netzwerk-ladoc-konferenz-5-7-maerz-2021/\n\nVeranstalterin:\nLaDOC FILMNE
 TZWERK\, www.ladoc.de\n\nAnsprechpartnerin:\nClaudia Richarz\, Tel.: 0221 
 / 2220 4122\, E-Mail: info@ladoc.de\n\nKosten / Anmeldung:\nDie Teilnahme 
 an der Konferenz ist kostenlos\, um freien Zugang für jede*n zu ermöglic
 hen. Die Anmeldung erfogt formlos per E-Mail unter info@ladoc.de\n\nVerans
 taltungsort:\nonline
END:VEVENT
BEGIN:VTIMEZONE
TZID:Europe/Berlin
X-LIC-LOCATION:Europe/Berlin
BEGIN:STANDARD
DTSTART:20201025T020000
TZOFFSETFROM:+0200
TZOFFSETTO:+0100
TZNAME:CET
END:STANDARD
END:VTIMEZONE
END:VCALENDAR