BEGIN:VCALENDAR
VERSION:2.0
PRODID:-//wp-events-plugin.com//7.2.3.1//EN
TZID:Europe/Berlin
X-WR-TIMEZONE:Europe/Berlin
BEGIN:VEVENT
UID:4434@frauenportal.koeln
DTSTART;TZID=Europe/Berlin;VALUE=DATE:20231022
DTEND;TZID=Europe/Berlin;VALUE=DATE:20231023
DTSTAMP:20230930T162458Z
URL:https://frauenportal.koeln/veranstaltungen/start-neue-gedok-kuenstleri
 nnen-stellen-sich-vor/
SUMMARY:Start: Neue GEDOK-Künstlerinnen stellen sich vor
DESCRIPTION:– 22. bis 29. Oktober 2023 –\n\nProgramm am 22. Oktober 202
 3\n11 Uhr: Matinée – Atelier Theater\, Roonstr. 78\, 50674 Köln\, Lage
 plan\n13 Uhr: Eröffnung der Ausstellung in der Geschäftsstelle der GEDOK
  KÖLN\, Hochstadenstr. 26\, 50674 Köln\, Lageplan\n\nÖffnungszeiten Aus
 stellung:\n25. Oktober 2023: 17–19 Uhr und nach Absprache\n29. Oktober 2
 023: 12–14 Uhr Finissage\n\nVon den neu aufgenommenen Künstlerinnen der
  Disziplinen Musik und Darstellende Kunst stellen sich im Atelier Theater 
 vor:\nNathalie Brum | Klangkünstlerin mit dem Ensemble mæro (www.nathali
 ebrum.eu)\nAnna Herbst | Sopranistin (www.annaherbst.com)\nSibylle Bertsch
  | Schauspielerin/Arrangeurin von Literaturkonzerten (www.literaturkonzert
 .de)\n\nAus den Disziplinen Bildende Kunst\, Angewandte Kunst & Design ste
 llen sich in der Ausstellung vor:\nDarja Linder | Malerin (www.darjalinder
 .de)\nHenrike Altes | Schmuckdesignerin (www.henrikealtes.com)\n\nHier ist
  die Einladung: GEDOK_Premiere_2023_Einladungskarte (pdf-Datei\, 524 KB)\n
 \nVeranstalterin:\nGEDOK Köln\n\nKontakt:\nGeschäftsstelle der GEDOK Kö
 ln\, Tel.: 0221 / 43 33 49\, E-Mail: gedokkoeln@t-online.de
LOCATION:GEDOK Köln\, Hochstadenstr. 26\, 50674 Köln
GEO:50.92938;6.9397
X-APPLE-STRUCTURED-LOCATION;VALUE=URI;X-ADDRESS=Hochstadenstr. 26\, Köln\,
  50674\, Frauenorganisation\, Deutschland;X-APPLE-RADIUS=100;X-TITLE=GEDOK
  Köln:geo:50.92938,6.9397
END:VEVENT
BEGIN:VTIMEZONE
TZID:Europe/Berlin
X-LIC-LOCATION:Europe/Berlin
BEGIN:DAYLIGHT
DTSTART:20230326T030000
TZOFFSETFROM:+0100
TZOFFSETTO:+0200
TZNAME:CEST
END:DAYLIGHT
END:VTIMEZONE
END:VCALENDAR