BEGIN:VCALENDAR
VERSION:2.0
PRODID:-//wp-events-plugin.com//7.2.3.1//EN
TZID:Europe/Berlin
X-WR-TIMEZONE:Europe/Berlin
BEGIN:VEVENT
UID:5639@frauenportal.koeln
DTSTART;TZID=Europe/Berlin;VALUE=DATE:20250501
DTEND;TZID=Europe/Berlin;VALUE=DATE:20250502
DTSTAMP:20250428T100552Z
URL:https://frauenportal.koeln/veranstaltungen/start-video-challenge-fuer-
 durchstarterinnen/
SUMMARY:Start Video Challenge für Durchstarterinnen
DESCRIPTION:– 1. Mai bis 31. Mai 2025 –\n\nRebecca Lenz zu ihrem Angebo
 t:\n\n"Du möchtest Videos für Dein Business nutzen\, um mehr in die Sich
 tbarkeit zu kommen?\n\nWenn Du allerdings nicht weißt\, wie Du anfangen s
 ollst oder Dir ein bisschen unwohl ist bei dem Gedanken\, Dich aller Welt 
 vor der Kamera zu zeigen\, dann bist Du hier genau richtig!\n\nLerne in ku
 rzen Episoden\, wie Du Dich von Deiner besten Seite präsentierst\, die Sc
 heu vor der Kamera ablegst und all die technischen Hürden überwindest.\n
 \nFreue Dich auf spannende zwei Wochen\, nach denen Du alles an der Hand h
 ast\, um mit persönlichen Videos Dein Business endlich authentisch präse
 ntieren zu können.\n\nDetails und Anmeldung über: \nrlenzphoto.de/worksh
 ops/videochallenge/\n\nAktuell zum einmaligen Einführungspreis von 20 EUR
 !\nAnmeldungen werden nur bis zum 30.04.2025 angenommen."
END:VEVENT
BEGIN:VTIMEZONE
TZID:Europe/Berlin
X-LIC-LOCATION:Europe/Berlin
BEGIN:DAYLIGHT
DTSTART:20250330T030000
TZOFFSETFROM:+0100
TZOFFSETTO:+0200
TZNAME:CEST
END:DAYLIGHT
END:VTIMEZONE
END:VCALENDAR