BEGIN:VCALENDAR
VERSION:2.0
PRODID:-//wp-events-plugin.com//7.2.3.1//EN
TZID:Europe/Berlin
X-WR-TIMEZONE:Europe/Berlin
BEGIN:VEVENT
UID:2422@frauenportal.koeln
DTSTART;TZID=Europe/Berlin:20191201T120000
DTEND;TZID=Europe/Berlin:20191201T180000
DTSTAMP:20191030T185557Z
URL:https://frauenportal.koeln/veranstaltungen/start-weihnachtsbasar-im-be
 ginenfenster-6/
SUMMARY:Start: Weihnachtsbasar im Beginenfenster
DESCRIPTION:Auch in diesem Jahr findet wieder der Beginen-Weihnachtsbasar s
 tatt.\nKunst und Krempel\, Kitsch und Kurioses können erstanden werden.\n
 \nTermine 2019:\nSa. – So. 30. Nov. – 01. Dez.\nSa. – So. 07. – 08
 . Dez.\nSa. – So. 14. – 15. Dez.\nSa. – So. 21. – 22. Dez.\njeweil
 s 12 – 18 Uhr\n\nVeranstalterin:\nBeginen Köln e.V.\n\nAnsprechpartneri
 n:\nChristine Müthrath\, Tel.: 0221 / 9655820\, E-Mail: info@beginen.de\n
 \nVeranstaltungsort:\nBeginenfenster\, Markmannsgasse 7\, 50667 Köln\, [m
 ap id=891]
END:VEVENT
BEGIN:VTIMEZONE
TZID:Europe/Berlin
X-LIC-LOCATION:Europe/Berlin
BEGIN:STANDARD
DTSTART:20191027T020000
TZOFFSETFROM:+0200
TZOFFSETTO:+0100
TZNAME:CET
END:STANDARD
END:VTIMEZONE
END:VCALENDAR