BEGIN:VCALENDAR
VERSION:2.0
PRODID:-//wp-events-plugin.com//7.2.3.1//EN
TZID:Europe/Berlin
X-WR-TIMEZONE:Europe/Berlin
BEGIN:VEVENT
UID:4710@frauenportal.koeln
DTSTART;TZID=Europe/Berlin:20240314T170000
DTEND;TZID=Europe/Berlin:20240314T183000
DTSTAMP:20240228T134818Z
URL:https://frauenportal.koeln/veranstaltungen/start-wendo-feministische-s
 elbstverteidigung-und-selbstbehauptung-6/
SUMMARY:Start: WenDo/ Feministische Selbstverteidigung und Selbstbehauptung
DESCRIPTION:– Selbstbehauptungskurs – \n\nEin Kurs speziell für Frauen
  mit Gewalterfahrung. \n\nFür Frauen aller Altersgruppen\, aus allen Kult
 urkreisen und mit unterschiedlichen körperlichen Voraussetzungen. Achtung
 : der\nRaum liegt diesmal im Hochparterre und ist nicht rolligerecht.\n\nH
 ier ist die Ausschreibung: WenDo 1.2024 (pdf-Datei: 637 KB)\n \nZeit: ab 1
 4. März 2024\n8 Termine\, donnerstags 17-18.30 Uhr \n(14.3./ 21.3./ 4.4./
  11.4./ 18.4./ 25.4./ 2.5./ 16.5.)\n\nTrainerinnen: Trude Menrath und Sabi
 ne Rasquin von ‚Frau Schmitzz‘. WenDo – Selbstverteidigung und Selbs
 tbehauptung für Mädchen und Frauen e.V.\,  www.frauschmitzz.de \n \nVera
 nstalterin:\nNotruf und Beratung für vergewaltigte Frauen - Frauen gegen 
 Gewalt e.V. (Notruf Köln)\n\nAnsprechpartnerin:\nIrmgard Kopetzky\, Tel.:
  0221 / 56 20 35\, E-Mail: mailbox@notruf-koeln.de\n\nKosten / Anmeldung:\
 nAnmeldung erforderlich.\n80 € (Ermäßigung bis max. 50% nach Selbstein
 schätzung möglich)\n
LOCATION:Frauentanzschule Swinging Sisters\, Venloer Str. 725\, 50827 Köln
GEO:50.9589;6.89591
X-APPLE-STRUCTURED-LOCATION;VALUE=URI;X-ADDRESS=Venloer Str. 725\, Köln\, 
 50827\, Veranstaltungsort\, Deutschland;X-APPLE-RADIUS=100;X-TITLE=Frauent
 anzschule Swinging Sisters:geo:50.9589,6.89591
END:VEVENT
BEGIN:VTIMEZONE
TZID:Europe/Berlin
X-LIC-LOCATION:Europe/Berlin
BEGIN:STANDARD
DTSTART:20231029T020000
TZOFFSETFROM:+0200
TZOFFSETTO:+0100
TZNAME:CET
END:STANDARD
END:VTIMEZONE
END:VCALENDAR