BEGIN:VCALENDAR
VERSION:2.0
PRODID:-//wp-events-plugin.com//7.2.3.1//EN
TZID:Europe/Berlin
X-WR-TIMEZONE:Europe/Berlin
BEGIN:VEVENT
UID:5158@frauenportal.koeln
DTSTART;TZID=Europe/Berlin:20241030T103000
DTEND;TZID=Europe/Berlin:20241030T120000
DTSTAMP:20240828T124020Z
URL:https://frauenportal.koeln/veranstaltungen/start-wendo-feministische-s
 elbstverteidigung-und-selbstbehauptung-7/
SUMMARY:Start: WenDo/ Feministische Selbstverteidigung und Selbstbehauptung
DESCRIPTION:– Selbstbehauptungskurs – \n\nEin Kurs speziell für Frauen
  mit Gewalterfahrung. \n\nFür Frauen aller Altersgruppen\, aus allen Kult
 urkreisen und mit unterschiedlichen körperlichen Voraussetzungen. Der Rau
 m liegt im EG und ist mit dem Rolli zugänglich.\n\nHier ist die Ausschrei
 bung: WenDo 2.2024 (pdf-Datei: 643 KB)\n \nZeit: ab 30. Oktober 2024\n8 Te
 rmine\, mittwochs\, 10.30 - 12 Uhr \n(30.10./ 6.11./ 13.11./ 20.11./ 27.11
 ./ 4.12./ 11.12./ 18.12.)\n\nTrainerinnen: Trude Menrath und Sabine Rasqui
 n von ‚Frau Schmitzz‘. WenDo – Selbstverteidigung und Selbstbehauptu
 ng für Mädchen und Frauen e.V.\,  www.frauschmitzz.de \n \nVeranstalteri
 n:\nNotruf und Beratung für vergewaltigte Frauen - Frauen gegen Gewalt e.
 V. (Notruf Köln)\n\nAnsprechpartnerin:\nIrmgard Kopetzky\, Tel.: 0221 / 5
 6 20 35\, E-Mail: mailbox@notruf-koeln.de\n\nKosten / Anmeldung:\nAnmeldun
 g erforderlich.\n80 € (Ermäßigung bis max. 50% nach Selbsteinschätzun
 g möglich)\n
LOCATION:Ev. Gemeindezentrum Stephanus\, Subbelrather Str. 206-210\, 50823 
 Köln
GEO:50.953618;6.921988
X-APPLE-STRUCTURED-LOCATION;VALUE=URI;X-ADDRESS=Subbelrather Str. 206-210\,
  Köln\, Nordrhein-Westfalen\, 50823\, Veranstaltungsort\, Deutschland;X-A
 PPLE-RADIUS=100;X-TITLE=Ev. Gemeindezentrum Stephanus:geo:50.953618,6.9219
 88
END:VEVENT
BEGIN:VTIMEZONE
TZID:Europe/Berlin
X-LIC-LOCATION:Europe/Berlin
BEGIN:STANDARD
DTSTART:20241027T020000
TZOFFSETFROM:+0200
TZOFFSETTO:+0100
TZNAME:CET
END:STANDARD
END:VTIMEZONE
END:VCALENDAR