BEGIN:VCALENDAR
VERSION:2.0
PRODID:-//wp-events-plugin.com//7.2.3.1//EN
TZID:Europe/Berlin
X-WR-TIMEZONE:Europe/Berlin
BEGIN:VEVENT
UID:5175@frauenportal.koeln
DTSTART;TZID=Europe/Berlin:20240927T100000
DTEND;TZID=Europe/Berlin:20240927T130000
DTSTAMP:20240828T145840Z
URL:https://frauenportal.koeln/veranstaltungen/stimm-und-sprechtraining-fu
 er-frauen/
SUMMARY:Stimm- und Sprechtraining für Frauen*
DESCRIPTION:Aus der Ankündigung:\n\n"Sprichst du manchmal zu schnell? Wenn
  du aufgeregt bist\, klingt deine Stimme piepsig? Vor einer Gruppe zu spre
 chen\, raubt dir die Luft? In diesem praxisorientierten Workshop lernst du
  nachhaltige Werkzeuge kennen\, mit denen du dich souverän präsentieren 
 kannst. Die Auseinandersetzung mit der eigenen Stimme und Sprechweise kann
  sehr empowernd sein. Und oft sind dafür keine großen Veränderungen nö
 tig."\n\nLeitung: \nKim Engelhardt - Stimm- und Sprechtrainerin\n\nVeranst
 alterin:\nFrauenLeben e.V. Köln\, Frauenberatungsstelle\n\nAnsprechpartne
 rin:\nMargret Schnetgöke\, Tel.: 0221 / 954 16 60\, E-Mail: \n\nmail@frau
 enleben.org\n\nAmeldung / Kosten:\nDie Veranstaltung ist kostenfrei. Anmel
 dung erforderlich. Bitte bequeme Kleidung und Wasser mitbringen!
LOCATION:FrauenLeben\, Venloer Str. 405-407\, 50825 Köln
GEO:50.95189;6.91379
X-APPLE-STRUCTURED-LOCATION;VALUE=URI;X-ADDRESS=Venloer Str. 405-407\, Köl
 n\, 50825\, Frauenorganisation\, Deutschland;X-APPLE-RADIUS=100;X-TITLE=Fr
 auenLeben:geo:50.95189,6.91379
END:VEVENT
BEGIN:VTIMEZONE
TZID:Europe/Berlin
X-LIC-LOCATION:Europe/Berlin
BEGIN:DAYLIGHT
DTSTART:20240331T030000
TZOFFSETFROM:+0100
TZOFFSETTO:+0200
TZNAME:CEST
END:DAYLIGHT
END:VTIMEZONE
END:VCALENDAR