BEGIN:VCALENDAR
VERSION:2.0
PRODID:-//wp-events-plugin.com//7.2.3.1//EN
TZID:Europe/Berlin
X-WR-TIMEZONE:Europe/Berlin
BEGIN:VEVENT
UID:2671@frauenportal.koeln
DTSTART;TZID=Europe/Berlin:20200518T153000
DTEND;TZID=Europe/Berlin:20200518T200000
DTSTAMP:20200331T122222Z
URL:https://frauenportal.koeln/veranstaltungen/stop-violence-against-women
 -istanbul-konvention/
SUMMARY:Stop Violence against Women - Istanbul-Konvention
DESCRIPTION:Der Termin findet nicht statt. Die Veranstaltung wird zu einem 
 späteren Zeitpunkt nachgeholt.\n\nWelche Bedeutung hat das Übereinkommen
  des Europarates zur Verhütung und Bekämpfung von Gewalt gegen Frauen un
 d häuslicher Gewalt für die Kommunen und die Frauenhilfeeinrichtungen? M
 it einem Fachreferat\, einer Podiumsdiskussion und Best-Practice-Beispiele
 n sollen Antworten auf diese Fragen gefunden werden.\n\nAm 1. Februar 2018
  ist die sogenannte Istanbul-Konvention in Deutschland in Kraft getreten. 
 Das Übereinkommen des Europarates zur Verhütung und Bekämpfung von Gewa
 lt gegen Frauen und häuslicher Gewalt verpflichtet die unterzeichnenden S
 taaten zu umfassenden Maßnahmen in den Bereichen Gewaltprävention\, Gewa
 ltschutz\, Unterstützungsangeboten und Strafverfolgung.\n\nDie Istanbul-K
 onvention wirft Fragen auf:\n\n 	Welche staatlichen und nicht-staatlichen 
 Stellen sind für ihre Umsetzung zuständig?\n 	In welchen Bereichen beste
 ht Handlungsbedarf?\n 	Mit welchen Maßnahmen lassen sich effektive und na
 chhaltig wirksame Strategien zur Verbesserung erzielen?\n\nDie Veranstaltu
 ng im Rathaus widmet sich dem Thema\, welche Bedeutung die Istanbul-Konven
 tion für die Kommunen und die Frauenhilfeeinrichtungen hat. Mit einem Fac
 hreferat\, einer Podiumsdiskussion und Best-Practice-Beispielen möchte si
 e Antworten auf diese Fragen finden. Eingeladen werden Expertinnen aus der
  Wissenschaft\, den Frauenhilfeeinrichtungen\, Einrichtungen des Landes un
 d der Kommunen sowie Vertreterinnen und Vertreter aus der Politik.\n\nHier
  ist eine erste Einladung: Save the Date: Istanbul-Konvention Veranstaltun
 g am 18.05.20 (pdf-Datei\, 786 KB)\n\nWeitere Infos folgen.\n\nVeranstalte
 rinnen:\n\n 	Oberbürgermeisterin der Stadt Köln\, Henriette Reker\, www.
 stadt-koeln.de\n 	medica mondiale\n\n\nAnsprechpartnerinnen:\nJessica Mosb
 ahi\, E-Mail: jmosbahi@medicamondiale.org\, Tel.: 0221 / 931898-65\, \nUte
  Müller\, Amt für Gleichstellung von Frauen und  Männern der Stadt Köl
 n\, E-Mail: ute.mueller@stadt-koeln.de\, Tel.: 0221 / 221-24575\n\nVeranst
 altungsort:\nRathaus der Stadt Köln\, 50667 Köln\, [map id=955]
END:VEVENT
BEGIN:VTIMEZONE
TZID:Europe/Berlin
X-LIC-LOCATION:Europe/Berlin
BEGIN:DAYLIGHT
DTSTART:20200329T030000
TZOFFSETFROM:+0100
TZOFFSETTO:+0200
TZNAME:CEST
END:DAYLIGHT
END:VTIMEZONE
END:VCALENDAR