BEGIN:VCALENDAR
VERSION:2.0
PRODID:-//wp-events-plugin.com//7.2.3.1//EN
TZID:Europe/Berlin
X-WR-TIMEZONE:Europe/Berlin
BEGIN:VEVENT
UID:3220@frauenportal.koeln
DTSTART;TZID=Europe/Berlin:20210401T180000
DTEND;TZID=Europe/Berlin:20210401T190000
DTSTAMP:20210331T145542Z
URL:https://frauenportal.koeln/veranstaltungen/stream-maria-magdalena-und-
 jesus-ein-liebespaar/
SUMMARY:Stream: Maria Magdalena und Jesus - ein Liebespaar?
DESCRIPTION:Ein Stream mit der Kunsthistorikerin Dr. Inge Schaefer.\n\nMari
 a Magdalena: Wer war sie wirklich? War sie die stadtbekannte Sünderin\, d
 ie Jesus bedingungslos bis zu seinem Tod am Kreuze folgte? Oder war sie di
 e wohlhabende Bürgerin aus Magdala und erste Zeugin der Auferstehung? Und
  wie war ihre Beziehung zu Jesus? \n\nViele Fragen\, die in den Texten der
  katholischen Kirche und in der Kunst unterschiedlich diskutiert werden. I
 m Wallraf-Richartz-Museum wird versucht anhand der Highlights der mittelal
 terlichen Gemäldesammlung etwas Licht in das Dunkel dieser faszinierenden
 \, attraktiven und geheimnisvollen Frau zu bringen. \n\nVeranstalterin:\nK
 ölner Frauengeschichtsverein e.V.\n\nKontakt:\nTel.: 0221 / 24 82 65\, E-
 Mail: info@frauengeschichtsverein.de\n\nKosten / Anmeldung:\nKosten: 12 
 €. Anmeldung erforderlich unter info@frauengeschichtsverein.de\n\nVerans
 taltungsort:\nonline
END:VEVENT
BEGIN:VTIMEZONE
TZID:Europe/Berlin
X-LIC-LOCATION:Europe/Berlin
BEGIN:DAYLIGHT
DTSTART:20210328T030000
TZOFFSETFROM:+0100
TZOFFSETTO:+0200
TZNAME:CEST
END:DAYLIGHT
END:VTIMEZONE
END:VCALENDAR