BEGIN:VCALENDAR
VERSION:2.0
PRODID:-//wp-events-plugin.com//7.2.3.1//EN
TZID:Europe/Berlin
X-WR-TIMEZONE:Europe/Berlin
BEGIN:VEVENT
UID:5557@frauenportal.koeln
DTSTART;TZID=Europe/Berlin:20250405T150000
DTEND;TZID=Europe/Berlin:20250405T180000
DTSTAMP:20250228T111210Z
URL:https://frauenportal.koeln/veranstaltungen/suedstadt-kulinarischer-str
 eifzug-mit-kostproben-3-h/
SUMMARY:Südstadt: Kulinarischer Streifzug mit Kostproben (3 h)
DESCRIPTION:Das Flair der Südstadt ist legendär\; es wird Gaumenfreuden n
 achgegangen. Einige Geschäfte mit Spezialitäten heißen die Teilnehmende
 n willkommen\, außerdem werden besondere Bistros und Restaurants gezeigt\
 , in dreien wird ein „Appetithäppchen“ gereicht. Zwischen den „Stat
 ionen“ wird Unterhaltsames zum „Veedel“ serviert. \n\nKosten: 39\,00
  Euro\, ermäßigt 37\,00 Euro\; inkl. Kostproben\, zzgl. Getränke\n\nAnm
 eldung bis 01.04.2025 erforderlich unter service@tour-agentur.de
END:VEVENT
BEGIN:VTIMEZONE
TZID:Europe/Berlin
X-LIC-LOCATION:Europe/Berlin
BEGIN:DAYLIGHT
DTSTART:20250330T030000
TZOFFSETFROM:+0100
TZOFFSETTO:+0200
TZNAME:CEST
END:DAYLIGHT
END:VTIMEZONE
END:VCALENDAR