BEGIN:VCALENDAR
VERSION:2.0
PRODID:-//wp-events-plugin.com//7.2.3.1//EN
TZID:Europe/Berlin
X-WR-TIMEZONE:Europe/Berlin
BEGIN:VEVENT
UID:2395@frauenportal.koeln
DTSTART;TZID=Europe/Berlin:20191116T150000
DTEND;TZID=Europe/Berlin:20191116T183000
DTSTAMP:20191021T094347Z
URL:https://frauenportal.koeln/veranstaltungen/suedstadt-kulinarischer-str
 eifzug-mit-kostproben-35-h/
SUMMARY:Südstadt: Kulinarischer Streifzug mit Kostproben (3\,5 h)
DESCRIPTION:Das Flair der Südstadt ist legendär\; es wird Gaumenfreuden n
 achgegangen. Einige Geschäfte mit Spezialitäten heißen die Teilnehmende
 n willkommen\, außerdem werden besondere Bistros und Restaurants gezeigt\
 ; in dreien wird ein „Appetithäppchen“ gereicht. Zwischen diesen „S
 tationen“ wird Unterhaltsames zum „Veedel“ serviert. \n\nKosten: Eur
 o 29\,00 zzgl. Getränke\n\nAnmeldung erforderlich.\nservice@tour-agentur.
 de\n0221 93 272 63\n\nErlebnistouren Köln &amp\; Region - Tour-Agentur\n
END:VEVENT
BEGIN:VTIMEZONE
TZID:Europe/Berlin
X-LIC-LOCATION:Europe/Berlin
BEGIN:STANDARD
DTSTART:20191027T020000
TZOFFSETFROM:+0200
TZOFFSETTO:+0100
TZNAME:CET
END:STANDARD
END:VTIMEZONE
END:VCALENDAR