BEGIN:VCALENDAR
VERSION:2.0
PRODID:-//wp-events-plugin.com//7.2.3.1//EN
TZID:Europe/Berlin
X-WR-TIMEZONE:Europe/Berlin
BEGIN:VEVENT
UID:2868@frauenportal.koeln
DTSTART;TZID=Europe/Berlin:20201011T170000
DTEND;TZID=Europe/Berlin:20201011T190000
DTSTAMP:20200930T133426Z
URL:https://frauenportal.koeln/veranstaltungen/suites-roses-katharina-dese
 rno-violoncello/
SUMMARY:SUITES & ROSES Katharina Deserno // Violoncello
DESCRIPTION:MUSIK FÜR CELLO SOLO VON J.S. BACH UND VIOLETA DINESCU\n\nDie 
 Cellistin Katharina Deserno spielt die erste Suite für Solo-Cello von J.S
 . Bach und kombiniert damit Werke von Violeta Dinescu\, die die Komponisti
 n\, inspiriert vom Spiel Desernos\, für sie geschrieben hat.\nKatharina D
 eserno findet\, dass mit den „Rosen“ ein Blick in einen geheimen Garte
 n der Vergangenheit geworfen wird\, aus der Perspektive einer expressiv-po
 etischen\, einer kommentierenden und zugleich eigenständigen Moderne.\n\n
 Violeta Dinescu wird anwesend sein\, was die Möglichkeit gibt\, die Kompo
 nistin zu ihrer Arbeit zu befragen.\n\nVeranstalterinnen:\nGEDOK Köln\nKl
 angraum Kunigunde\, www.klangraum-kunigunde.de \n\nKontakt:\nGeschäftsste
 lle der GEDOK Köln\, Tel.: 0221 / 43 33 49\, E-Mail: gedokkoeln@t-online.
 de\n\nKosten / Anmeldung:\nLimitierte Plätze\, Anmeldung erforderlich unt
 er gorius@klangraum-kunigunde.de \n\nVeranstaltungsort:\nKlangraum-Kunigun
 de (Kirche St. Heinrich und Kunigund)\, Simon-Meister-Str. 1\, 50733 Köln
 \, [map id=16028]
END:VEVENT
BEGIN:VTIMEZONE
TZID:Europe/Berlin
X-LIC-LOCATION:Europe/Berlin
BEGIN:DAYLIGHT
DTSTART:20200329T030000
TZOFFSETFROM:+0100
TZOFFSETTO:+0200
TZNAME:CEST
END:DAYLIGHT
END:VTIMEZONE
END:VCALENDAR