BEGIN:VCALENDAR
VERSION:2.0
PRODID:-//wp-events-plugin.com//7.2.3.1//EN
TZID:Europe/Berlin
X-WR-TIMEZONE:Europe/Berlin
BEGIN:VEVENT
UID:5598@frauenportal.koeln
DTSTART;TZID=Europe/Berlin:20250408T190000
DTEND;TZID=Europe/Berlin:20250408T210000
DTSTAMP:20250324T100217Z
URL:https://frauenportal.koeln/veranstaltungen/superpower-mut-demut-wie-wi
 r-aufhoeren-zu-warten-anfangen-zu-gestalten/
SUMMARY:Superpower Mut & Demut: Wie wir aufhören zu warten & anfangen zu g
 estalten
DESCRIPTION:Viele Frauen leisten hervorragende Arbeit\, sind engagiert und 
 ambitioniert – doch allzu oft bleiben sie im Hintergrund. Während ander
 e mutig ihre Karriere oder ihr Business vorantreiben\, geht wertvolles Pot
 enzial ungenutzt verloren. Doch Erfolg entsteht nicht nur durch Leistung\,
  sondern durch eine bewusste Balance aus Mut und Demut.\n\nMut bedeutet\, 
 sichtbar zu werden\, souveräne Entscheidungen zu treffen und den eigenen 
 Weg aktiv zu gestalten. Gleichzeitig ist Demut eine ebenso zentrale Stärk
 e – die Fähigkeit\, zuzuhören\, zu reflektieren und gemeinsam mit ande
 ren zu wachsen. In diesem interaktiven Vortrag stehen diese beiden Kräfte
  im Mittelpunkt und zeigen\, wie sie bewusst eingesetzt den entscheidenden
  Unterschied in Karriere\, Führung und Unternehmertum machen.\n\nThemen d
 es Vortrags:\n\n\n	Mut & Demut als Erfolgsstrategie: Warum beide Eigenscha
 ften in Balance eine echte Superpower sind\n\n\n	Von der Unsichtbarkeit zu
 r Wirkungskraft: Wege\, um sich selbstbewusst zu positionieren und voranzu
 kommen\n\n\n	Selbstbewusst führen & überzeugen: Mutige Entscheidungen tr
 effen\, für Werte einstehen und Wirksamkeit entfalten\n\n\n	Praktische Re
 flexionsübungen: Direkt umsetzbare Impulse für den eigenen Berufsalltag\
 n\n\n\n\nReferentin:\nAlexandra Eibrink\, www.femaletalentsmentoring.de\n\
 nVeranstalterinnen:\nBPW Germany Club Köln\n\nAnsprechpartnerin:\nNyelete
  S. Gonçalves Chilenge\, E-Mail: bpw-koeln@web.de\n\nKosten /Anmeldung:\n
 Mitglieder frei\, Interessentinnen 15 Euro. Anmeldung unter www.eventbrite
 .de/e/superpower-mut-demut-wie-wir-aufhoren-zu-warten-anfangen-zu-gestalte
 n-tickets-1297210073249
LOCATION:Startplatz Köln\, Im Mediapark 5\, 50670 Köln
GEO:50.94857939;6.94487198
X-APPLE-STRUCTURED-LOCATION;VALUE=URI;X-ADDRESS=Im Mediapark 5\, Köln\, 50
 670\, Veranstaltungsort\, Deutschland;X-APPLE-RADIUS=100;X-TITLE=Startplat
 z Köln:geo:50.94857939,6.94487198
END:VEVENT
BEGIN:VTIMEZONE
TZID:Europe/Berlin
X-LIC-LOCATION:Europe/Berlin
BEGIN:DAYLIGHT
DTSTART:20250330T030000
TZOFFSETFROM:+0100
TZOFFSETTO:+0200
TZNAME:CEST
END:DAYLIGHT
END:VTIMEZONE
END:VCALENDAR