BEGIN:VCALENDAR
VERSION:2.0
PRODID:-//wp-events-plugin.com//7.2.3.1//EN
TZID:Europe/Berlin
X-WR-TIMEZONE:Europe/Berlin
BEGIN:VEVENT
UID:4158@frauenportal.koeln
DTSTART;TZID=Europe/Berlin:20230208T103000
DTEND;TZID=Europe/Berlin:20230208T140000
DTSTAMP:20230201T074611Z
URL:https://frauenportal.koeln/veranstaltungen/susanna-bilder-einer-frau-v
 om-mittelalter-bis-meetoo-anschl-vdu-business-lunch/
SUMMARY:Susanna - Bilder einer Frau vom Mittelalter bis MeeToo anschl. VdU 
 Business Lunch
DESCRIPTION:Mit der weltweit ersten Ausstellung zur biblischen Susanna in d
 er Kunst widmet sich das Wallraf-Richartz-Museum in diesem Winter einer Er
 zähl- und Bildtradition\, die auch vor dem Hintergrund der MeToo-Bewegung
  kaum aktueller sein könnte: „SUSANNA - Bilder einer Frau vom Mittelalt
 er bis MeToo“ zeigt eindrucksvoll\, wie Machtmissbrauch und sexualisiert
 e Gewalt schon seit Jahrhunderten in Malerei und Graphik verhandelt werden
 . Die biblische Erzählung von der Nötigung der Susanna durch zwei alte R
 ichter übt schon seit der Spätantike großen Einfluss auf die Kunst aus.
  Die Kölner Sonderausstellung belegt dies mit hochklassigen Werken von u.
 a. Artemisia Gentileschi\, Anthonis van Dyck\, Rembrandt\, Eugène Delacro
 ix\, Édouard Manet und Lovis Corinth sowie beeindruckenden Arbeiten von z
 eitgenössischen Künstlerinnen wie Kathleen Gilje\, Heike Gallmeier und Z
 oe Leonard.\n\nVeranstalterin:\nVerband der Unternehmerinnen in Deutschlan
 d (VdU)\n\nAnsprechpartnerin:\nPetra Fischer\, Mobil: 0173 / 663 1405\, E-
 Mail: petra.fischer@vdu.de\n\nKosten / Anmeldung:\nEingeladen sind Mitglie
 der des VdU\, Interessentinnen und Gäste.\nEintritt in Museum: 13 €\nAn
 schließend gemeinsames Mittagessen (alle zahlen für sich selbst).\nUm An
 meldung wird gebeten unter https://vdu.powerappsportals.com
LOCATION:Wallraf-Richartz-Museum\, Obenmarspforten 40\, 50667 Köln
GEO:50.9377225;6.9569814
X-APPLE-STRUCTURED-LOCATION;VALUE=URI;X-ADDRESS=Obenmarspforten 40\, Köln\
 , 50667\, Veranstaltungsort\, Deutschland;X-APPLE-RADIUS=100;X-TITLE=Wallr
 af-Richartz-Museum:geo:50.9377225,6.9569814
END:VEVENT
BEGIN:VTIMEZONE
TZID:Europe/Berlin
X-LIC-LOCATION:Europe/Berlin
BEGIN:STANDARD
DTSTART:20221030T020000
TZOFFSETFROM:+0200
TZOFFSETTO:+0100
TZNAME:CET
END:STANDARD
END:VTIMEZONE
END:VCALENDAR