BEGIN:VCALENDAR
VERSION:2.0
PRODID:-//wp-events-plugin.com//7.2.3.1//EN
TZID:Europe/Berlin
X-WR-TIMEZONE:Europe/Berlin
BEGIN:VEVENT
UID:4253@frauenportal.koeln
DTSTART;TZID=Europe/Berlin:20230510T100000
DTEND;TZID=Europe/Berlin:20230510T140000
DTSTAMP:20230505T151817Z
URL:https://frauenportal.koeln/veranstaltungen/symposium-100-teilzeit/
SUMMARY:Symposium "100% Teilzeit"
DESCRIPTION:– Innovative Arbeitszeitmodelle zur Fachkräftesicherung –\
 n\nDas Thema Teilzeit gewinnt angesichts sich ständig wandelnder Rahmenbe
 dingungen und Wertehaltungen in der Arbeitswelt auf allen Ebenen stetig an
  Bedeutung. Unternehmen müssen sich mit den Vorteilen einer flexiblen Arb
 eitszeitgestaltung auseinandersetzen. Viele bieten die Teilzeittätigkeite
 n als einen Bestandteil attraktiver Arbeitsbedingungen an\, um Fachkräfte
  zu gewinnen und zu halten. Dabei kommen ganz unterschiedliche Arbeitszeit
 modelle von Jobsharing bis zu vollzeitnaher Teilzeit in Frage. Die Vielfal
 t an Modellen und die Erfahrungen\, die damit gemacht werden\, stehen im Z
 entrum des Symposiums „100% Teilzeit – Innovative Arbeitszeitmodelle z
 ur Fachkräftesicherung".\n\nAlle interessierten Unternehmen und Multiplik
 ator*innen erwartet ein abwechslungsreiches Programm mit neuen Impulsen.\n
 \nHier ist die Einladung mit Programm: Einladung_Teilzeitsymposium_Köln_2
 023 (pdf-Datei: 563 KB)\n\nVeranstalterin:\nCompetentia - Kompetenzzentrum
  Frau &amp\; Beruf Region Köln\, www.competentia-region-koeln.de\nAmt fü
 r Gleichstellung von Frauen und Männern der Stadt Köln\n\nKontakt:\nKomp
 etenzzentrum Frau &amp\; Beruf Region Köln\,  Agnes Wojtacki\, Tel.: 0221
  / 35 50 65 30\, E-Mail: competentia@stadt-koeln.de\n\nKosten / Anmeldung:
 \nKostenfrei. Anmeldung bitte per Mail bis 26. April 2023 an teilzeitsympo
 sium@stadt-koeln.de
LOCATION:KOMED\, Im Mediapark 7\, 50670 Köln
GEO:50.948383;6.943595
X-APPLE-STRUCTURED-LOCATION;VALUE=URI;X-ADDRESS=Im Mediapark 7\, Köln\, 50
 670\, Veranstaltungsort\, Deutschland;X-APPLE-RADIUS=100;X-TITLE=KOMED:geo
 :50.948383,6.943595
END:VEVENT
BEGIN:VTIMEZONE
TZID:Europe/Berlin
X-LIC-LOCATION:Europe/Berlin
BEGIN:DAYLIGHT
DTSTART:20230326T030000
TZOFFSETFROM:+0100
TZOFFSETTO:+0200
TZNAME:CEST
END:DAYLIGHT
END:VTIMEZONE
END:VCALENDAR