BEGIN:VCALENDAR
VERSION:2.0
PRODID:-//wp-events-plugin.com//7.2.3.1//EN
TZID:Europe/Berlin
X-WR-TIMEZONE:Europe/Berlin
BEGIN:VEVENT
UID:3268@frauenportal.koeln
DTSTART;TZID=Europe/Berlin:20210613T140000
DTEND;TZID=Europe/Berlin:20210613T170000
DTSTAMP:20210531T154830Z
URL:https://frauenportal.koeln/veranstaltungen/tag-des-gartens-beginenhof-
 koeln/
SUMMARY:Tag des Gartens - Beginenhof Köln
DESCRIPTION:Immer am zweiten Sonntag im Juni ist „Tag des Gartens“ und 
 das seit 1984. Auch die Türen des Beginenhof-Gartens in Köln-Widdersdorf
  sind an diesem Tag weit geöffnet. Zwischen 14 h und 17 h können sich In
 teressierte ein Bild davon machen\, welch grünes Paradies in den vergange
 nen sieben Jahren auf einst 900qm Ackerscholle entstanden ist. Der biologi
 sche Nutzgarten bringt reiche Ernte\, von Äpfeln bis zu Zwiebeln\, die bu
 nte Wildblumenwiese verwöhnt die Bienen\, ein spiritueller Abschnitt mit 
 Spirale dient als Ort der Stille\, die große Terrasse für die gemeinsame
  Zeit im Freien. Alles zusammen eine grüne Oase\, gut für Sinne\, Seele 
 und Klima.\n\nDer Einlass in das Beginenhof-Gebäude ist bei dieser Gelege
 nheit nicht möglich. Es gelten wegen CORONA die AHA-Bestimmungen.\n\nVera
 nstalterin:\nBeginenhof Köln eG (Beginen Köln)\n\nKontakt:\nMarianne Bu
 ßmann\, Tel.: 0221 / 17096490\, E-Mail: orga@beginenhof-koeln.de\n\nVeran
 staltungsort:\nBeginenhof Köln\, Unter Linden 119\, 50859 Köln\, [map id
 =1048]\n\n
END:VEVENT
BEGIN:VTIMEZONE
TZID:Europe/Berlin
X-LIC-LOCATION:Europe/Berlin
BEGIN:DAYLIGHT
DTSTART:20210328T030000
TZOFFSETFROM:+0100
TZOFFSETTO:+0200
TZNAME:CEST
END:DAYLIGHT
END:VTIMEZONE
END:VCALENDAR