BEGIN:VCALENDAR
VERSION:2.0
PRODID:-//wp-events-plugin.com//7.2.3.1//EN
TZID:Europe/Berlin
X-WR-TIMEZONE:Europe/Berlin
BEGIN:VEVENT
UID:5197@frauenportal.koeln
DTSTART;TZID=Europe/Berlin:20241208T180000
DTEND;TZID=Europe/Berlin:20241208T200000
DTSTAMP:20250417T141150Z
URL:https://frauenportal.koeln/veranstaltungen/talk-starke-frauen-fuer-koe
 ln/
SUMMARY:Talk: Starke Frauen für Köln
DESCRIPTION:Start der neuen TALK-Reihe der Stiftung Frauen*leben in Köln m
 it dem Ziel\, den Kölner Frauen*Stadtplan bekannter zu machen: STARKE FRA
 UEN FÜR KÖLN – TALK im Stollwerck-Theater 509. \n\nDen Auftakt machen 
 Oberbürgermeisterin Henriette Reker\, Karolin Balzar von der Schnittchen-
 Sitzung und Dr. Juliane Kronen von der Plattform Innatura. Das spannende T
 rio wird von der Moderatorin Carolina Brauckmann befragt\, und es gibt die
  Gelegenheit\, die drei Damen aus dem Kölner Frauen*Stadtplan www.frauens
 tadtplan.koeln näher kennenzulernen.\n\nHier ist die Einladung: Talk Star
 ke Frauen für Köln 12.2024 (pdf-Datei\, 180 KB)\n\nVeranstalterin:\nStif
 tung Frauen*leben in Köln\, www.stiftung-frauenleben.koeln\n\nKontakt:\nD
 r. med. Maria J. Beckermann\, E-Mail: \nmail@stiftung-frauenleben.koeln\n\
 nKosten / Anmeldung:\nEintritt: Abendkasse 14 €
LOCATION:Bürgerhaus Stollwerck\, Dreikönigenstr. 23\, 50678 Köln
GEO:50.92527;6.96443
X-APPLE-STRUCTURED-LOCATION;VALUE=URI;X-ADDRESS=Dreikönigenstr. 23\, Köln
 \, 50678\, Veranstaltungsort\, Deutschland;X-APPLE-RADIUS=100;X-TITLE=Bür
 gerhaus Stollwerck:geo:50.92527,6.96443
END:VEVENT
BEGIN:VTIMEZONE
TZID:Europe/Berlin
X-LIC-LOCATION:Europe/Berlin
BEGIN:STANDARD
DTSTART:20241027T020000
TZOFFSETFROM:+0200
TZOFFSETTO:+0100
TZNAME:CET
END:STANDARD
END:VTIMEZONE
END:VCALENDAR