BEGIN:VCALENDAR
VERSION:2.0
PRODID:-//wp-events-plugin.com//7.2.3.1//EN
TZID:Europe/Berlin
X-WR-TIMEZONE:Europe/Berlin
BEGIN:VEVENT
UID:1822@frauenportal.koeln
DTSTART;TZID=Europe/Berlin:20190308T180000
DTEND;TZID=Europe/Berlin:20190308T193000
DTSTAMP:20190228T165323Z
URL:https://frauenportal.koeln/veranstaltungen/tamar-maria-edelgard-metoo-
 und-die-potente-frau/
SUMMARY:Tamar\, Maria\, Edelgard\, #Metoo und die potente Frau
DESCRIPTION:Lesung und Diskussion.\n\nDie Philosophin Svenja Flasspöhler (
 Wikipedia) hat mit ihrem Buch „Die potente Frau“ eine Kontroverse übe
 r Opfer\, Täter\, Autonomie und Potenz ausgelöst. Tamar und Maria stehen
  für verletzte und mit Würde ausgestattete Frauen in der Bibel\, Edelgar
 d heißt das neue Kölner Schutzraumprojekt für Frauen. Es wird gelesen\,
  gehört\, diskutiert und sich theologisch und politisch eingemischt.\n\nV
 eranstalterinnen:\nFrauenreferat und Frauenbeauftragte der Ev. Kirche in K
 öln und Melanchthon-Akademie Köln\, www.melanchthon-akademie.de\n\nAnspr
 echpartnerin:\nDorothee Schaper\, Tel.: 0221 / 931803-28\, E-Mail: schaper
 @melanchthon-akademie.de\n\nKosten / Anmeldung:\nEintritt: 5 Euro\nE-Mail:
  anmeldung@melanchthon-akademie.de oder Tel.: 0221 / 93 18 030\n\nVeransta
 ltungsort:\nMelanchthon-Akademie Köln\, Kartäuserwall 24b\, 50678 Köln\
 , [map id=931]
END:VEVENT
BEGIN:VTIMEZONE
TZID:Europe/Berlin
X-LIC-LOCATION:Europe/Berlin
BEGIN:STANDARD
DTSTART:20181028T020000
TZOFFSETFROM:+0200
TZOFFSETTO:+0100
TZNAME:CET
END:STANDARD
END:VTIMEZONE
END:VCALENDAR