BEGIN:VCALENDAR
VERSION:2.0
PRODID:-//wp-events-plugin.com//7.2.3.1//EN
TZID:Europe/Berlin
X-WR-TIMEZONE:Europe/Berlin
BEGIN:VEVENT
UID:5129@frauenportal.koeln
DTSTART;TZID=Europe/Berlin:20240824T200000
DTEND;TZID=Europe/Berlin:20240824T220000
DTSTAMP:20240710T093011Z
URL:https://frauenportal.koeln/veranstaltungen/tangoyim/
SUMMARY:Tangoyim
DESCRIPTION:– Klezmer\, jiddische Lieder und Tangos –\n\nMit Gesang\, G
 eige\, Akkordeon und Klarinette nimmt das Duo Tangoyim\, bestehend aus Ste
 fanie Hölzle (Geige\, Klarinette\, Bratsche\, Gesang) und Daniel Marsch (
 Akkordeon\, Gesang)\, die Zuhörenden mit auf eine Reise durch die jüdisc
 he Musik\, von der versunkenen Welt des osteuropäischen Shtetl bis ins Am
 erika der 1920er Jahre. Zwischen den Liedern runden ruhige Klezmermelodien
  und Tänze voller Lebensfreude das Programm ab.\n\nMal heiter\, mal melan
 cholisch\, mal ernst\, mal ausgelassen\, langsam und getragen oder rasch v
 oranspringend - die Musik ist so vielseitig wie das Leben selbst.\n\nEintr
 itt: 20\,00 €\nVVK Kölnticket (www.koelnticket.de/artist/tangoyim/) ode
 r Abendkasse 
END:VEVENT
BEGIN:VTIMEZONE
TZID:Europe/Berlin
X-LIC-LOCATION:Europe/Berlin
BEGIN:DAYLIGHT
DTSTART:20240331T030000
TZOFFSETFROM:+0100
TZOFFSETTO:+0200
TZNAME:CEST
END:DAYLIGHT
END:VTIMEZONE
END:VCALENDAR