BEGIN:VCALENDAR
VERSION:2.0
PRODID:-//wp-events-plugin.com//7.2.3.1//EN
TZID:Europe/Berlin
X-WR-TIMEZONE:Europe/Berlin
BEGIN:VEVENT
UID:2928@frauenportal.koeln
DTSTART;TZID=Europe/Berlin:20210316T190000
DTEND;TZID=Europe/Berlin:20210316T211500
DTSTAMP:20210305T102328Z
URL:https://frauenportal.koeln/veranstaltungen/terre-des-femmes-koeln-rege
 lmaessiges-treffen-3-2021-03-16/
SUMMARY:Terre des Femmes Köln – regelmäßiges Treffen
DESCRIPTION:Der Termin findet nicht statt.\nDie Mitglieder der TERRE DES FE
 MMES Städtegruppe Köln engagieren sich ehrenamtlich für die Menschenrec
 hte von Mädchen und Frauen. Die Gruppe arbeitet zu den Kernthemen von Ter
 re des Femmes e.V. und konzentriert sich dabei auf den Bereich Öffentlich
 keitsarbeit. Organisiert werden Podiumsdiskussionen\, Workshops\, Infostä
 nde\, Filmfestivals und vieles mehr. Interessierte sind herzlich eingelade
 n.\n\nVeranstalterin:\nTERRE DES FEMMES\n\nKontakt:\nJessica Espinoza\nE-M
 ail: koeln@frauenrechte.de\n\nKosten / Anmeldung:\nUm Anmeldung wird gebet
 en!\n\nVeranstaltungsort:\nMelanchthon-Akademie Köln\, Kartäuserwall 24b
 \, 50678 Köln\, [map id=931]
END:VEVENT
BEGIN:VTIMEZONE
TZID:Europe/Berlin
X-LIC-LOCATION:Europe/Berlin
BEGIN:STANDARD
DTSTART:20201025T020000
TZOFFSETFROM:+0200
TZOFFSETTO:+0100
TZNAME:CET
END:STANDARD
END:VTIMEZONE
END:VCALENDAR