BEGIN:VCALENDAR
VERSION:2.0
PRODID:-//wp-events-plugin.com//7.2.3.1//EN
TZID:Europe/Berlin
X-WR-TIMEZONE:Europe/Berlin
BEGIN:VEVENT
UID:155@frauenportal.koeln
DTSTART;TZID=Europe/Berlin:20171030T190000
DTEND;TZID=Europe/Berlin:20171030T210000
DTSTAMP:20171129T153015Z
URL:https://frauenportal.koeln/veranstaltungen/terre-des-femmes-koeln-rege
 lmaessiges-treffen-30-oktober-2017-montag/
SUMMARY:Terre des Femmes Köln - regelmäßiges Treffen 
DESCRIPTION:TERRE DES FEMMES ist eine gemeinnützige Menschenrechtsorganisa
 tion für Frauenund Mädchen\, die durch internationale Vernetzung\, Öffe
 ntlichkeitsarbeit\, Aktionen\, Einzelfallhilfeund Förderung von einzelnen
  Projekten Frauen und Mädchen unterstützt.Veranstalterin:TERRE DES FEMME
 SKontakt:E-Mail: koeln@frauenrechte.deKosten / Anmeldung:Um Anmeldung wird
  gebeten!Veranstaltungsort:Hennamond - Mut\, Rat und Lebenshilfe e.V.\, Wi
 lhelm-Sollmann Str. 103\, 50737 Köln\, Lageplan
END:VEVENT
BEGIN:VTIMEZONE
TZID:Europe/Berlin
X-LIC-LOCATION:Europe/Berlin
BEGIN:STANDARD
DTSTART:20171029T020000
TZOFFSETFROM:+0200
TZOFFSETTO:+0100
TZNAME:CET
END:STANDARD
END:VTIMEZONE
END:VCALENDAR