BEGIN:VCALENDAR
VERSION:2.0
PRODID:-//wp-events-plugin.com//7.2.3.1//EN
TZID:Europe/Berlin
X-WR-TIMEZONE:Europe/Berlin
BEGIN:VEVENT
UID:4716@frauenportal.koeln
DTSTART;TZID=Europe/Berlin:20240313T183000
DTEND;TZID=Europe/Berlin:20240313T203000
DTSTAMP:20240228T153605Z
URL:https://frauenportal.koeln/veranstaltungen/themenabend-dorothee-soelle
 /
SUMMARY:Themenabend: Dorothee Sölle
DESCRIPTION:"Am Ende der Suche und der Frage nch Gott steht keine Antwort\,
  sondern eine Umarmung" (Dorothee Sölle\, 1929 - 2003)\n\nDer Poetin\, Th
 eologin und politisch engagierten Frau wird dieser Abend gewidment gemeins
 am mit Annette Goebel\, einer Zeitzeugin und Wegbgleiterin. Zu entdecken u
 d erfahren ist vielleicht noch Unbekanntes...\n\nVeranstalterinnen:\nFraue
 nreferat der Evangelischen Kirche in Köln\n\nAnsprechpartnerin:\nUte Verc
 h\, Tel.: 0221 / 278561-93\, E-Mail: ute.verch@ekir.de\n\nKosten / Anmeldu
 ng:\nEintritt: frei\, Anmeldung bitte bei Ute Verch
LOCATION:Markuskirche Porz\, Martin-Luther-Str. 38\, 51145 Köln
GEO:50.887895;7.077867
X-APPLE-STRUCTURED-LOCATION;VALUE=URI;X-ADDRESS=Martin-Luther-Str. 38\, Kö
 ln\, Nordrhein-Westfalen\, 51145\, Veranstaltungsort\, Deutschland;X-APPLE
 -RADIUS=100;X-TITLE=Markuskirche Porz:geo:50.887895,7.077867
END:VEVENT
BEGIN:VTIMEZONE
TZID:Europe/Berlin
X-LIC-LOCATION:Europe/Berlin
BEGIN:STANDARD
DTSTART:20231029T020000
TZOFFSETFROM:+0200
TZOFFSETTO:+0100
TZNAME:CET
END:STANDARD
END:VTIMEZONE
END:VCALENDAR