BEGIN:VCALENDAR
VERSION:2.0
PRODID:-//wp-events-plugin.com//7.2.3.1//EN
TZID:Europe/Berlin
X-WR-TIMEZONE:Europe/Berlin
BEGIN:VEVENT
UID:5569@frauenportal.koeln
DTSTART;TZID=Europe/Berlin:20250327T183000
DTEND;TZID=Europe/Berlin:20250327T210000
DTSTAMP:20250228T113638Z
URL:https://frauenportal.koeln/veranstaltungen/themenabend-lebenslust/
SUMMARY:Themenabend: Lebenslust
DESCRIPTION:Lustvoll Leben! Wo und wie schöpfe ich Energie in diesen Zeite
 n? Was sind meine Kraftquellen? Wie gestalte ich mein Leben mit meinem eig
 enen Potential? Wie gehe ich mit dem Älterwerden um? Was bedeutet Resilie
 nz?\n\nDiesen und ähnlichen Fragen soll sich mit unterschiedlichen Method
 en angenähert werden. Zu erwarten ist ein positiver\, fröhlicher\, aber 
 voraussichtlich auch intensiver Abend.\n\nVeranstalterinnen:\nEv. Frauenre
 ferat Kirchenkreis Köln-Rechtsrheinisch\n\nAnsprechpartnerin:\nUte Verch\
 , Tel. 0221 / 27 85 61-93\, E-Mail: ute.verch@ekir.de\n\nVeranstaltungort:
 \nWird noch bekannt gegeben.
END:VEVENT
BEGIN:VTIMEZONE
TZID:Europe/Berlin
X-LIC-LOCATION:Europe/Berlin
BEGIN:STANDARD
DTSTART:20241027T020000
TZOFFSETFROM:+0200
TZOFFSETTO:+0100
TZNAME:CET
END:STANDARD
END:VTIMEZONE
END:VCALENDAR