BEGIN:VCALENDAR
VERSION:2.0
PRODID:-//wp-events-plugin.com//7.2.3.1//EN
TZID:Europe/Berlin
X-WR-TIMEZONE:Europe/Berlin
BEGIN:VEVENT
UID:4337@frauenportal.koeln
DTSTART;TZID=Europe/Berlin:20230723T140000
DTEND;TZID=Europe/Berlin:20230723T160000
DTSTAMP:20230630T130358Z
URL:https://frauenportal.koeln/veranstaltungen/touristin-in-der-eigenen-st
 adt-13/
SUMMARY:Touristin in der eigenen Stadt
DESCRIPTION:- Einstiegsrundgang auch für Nicht-Kölnerinnen in der Altstad
 t -\n\nWar die Stadtgründerin Agrippina eine Mörderin? Warum wurde die P
 ostmeisterin Katharina Henoth als „Hexe“ verbrannt? Der Rundgang beric
 htet von der Stadtgündung\, von lokalen Muttergottheiten sowie den Urspr
 üngen der Weiberfastnacht. Es wird der Frauenbrunnen mit seinen zehn Frau
 engestalten besucht und von manchen Besonderheiten berichtet\, wie den Fra
 uenzünften\, die es in dieser Ausprägung nur in Köln gab.\n\nVeranstalt
 erin:\nKölner Frauengeschichtsverein e.V.\n\nKontakt:\nTel.: 0221 / 24 82
  65\, E-Mail: info@frauengeschichtsverein.de\n\nKosten / Anmeldung:\nKost
 enbeitrag: 12 Euro\n\nTreffpunkt: Vor dem (geschlossenen) Römisch-Germani
 schen Museum
LOCATION:Römisch-Germanisches Museum\, Roncalliplatz 4\, 50667 Köln
GEO:50.94017;6.959088
X-APPLE-STRUCTURED-LOCATION;VALUE=URI;X-ADDRESS=Roncalliplatz 4\, Köln\, 5
 0667\, Veranstaltungsort\, Deutschland;X-APPLE-RADIUS=100;X-TITLE=Römisch
 -Germanisches Museum:geo:50.94017,6.959088
END:VEVENT
BEGIN:VTIMEZONE
TZID:Europe/Berlin
X-LIC-LOCATION:Europe/Berlin
BEGIN:DAYLIGHT
DTSTART:20230326T030000
TZOFFSETFROM:+0100
TZOFFSETTO:+0200
TZNAME:CEST
END:DAYLIGHT
END:VTIMEZONE
END:VCALENDAR