BEGIN:VCALENDAR
VERSION:2.0
PRODID:-//wp-events-plugin.com//7.2.3.1//EN
TZID:Europe/Berlin
X-WR-TIMEZONE:Europe/Berlin
BEGIN:VEVENT
UID:2838@frauenportal.koeln
DTSTART;TZID=Europe/Berlin:20200926T140000
DTEND;TZID=Europe/Berlin:20200926T160000
DTSTAMP:20200831T163208Z
URL:https://frauenportal.koeln/veranstaltungen/touristin-in-der-eigenen-st
 adt-9/
SUMMARY:Touristin in der eigenen Stadt
DESCRIPTION:- Einstiegsrundgang auch für Nicht-Kölnerinnen -\n\nWar die S
 tadtgründerin Agrippina eine Mörderin? Warum wurde die Postmeisterin Kat
 harina Henoth als „Hexe“ verbrannt? Der Rundgang berichtet von der Sta
 dtgündung\, von lokalen Muttergottheiten sowie den Ursprüngen der Weiber
 fastnacht. Es wird der Frauenbrunnen mit seinen zehn Frauengestalten besuc
 ht und von manchen Besonderheiten berichtet\, wie den Frauenzünften\, die
  es in dieser Ausprägung nur in Köln gab.\n\nVeranstalterin:\nKölner Fr
 auengeschichtsverein e.V.\n\nKontakt:\nTel.: 0221 / 24 82 65\, E-Mail: in
 fo@frauengeschichtsverein.de\n\nKosten / Anmeldung:\nKostenbeitrag: 15 €
  (coroanbedingt).\n\nVeranstaltungsort:\nTreffpunkt: 14.00 Uhr vor dem Ein
 gang des Römisch-Germanischen Museums\, Roncalliplatz 4\, 50667 Köln\, [
 map id=915]
END:VEVENT
BEGIN:VTIMEZONE
TZID:Europe/Berlin
X-LIC-LOCATION:Europe/Berlin
BEGIN:DAYLIGHT
DTSTART:20200329T030000
TZOFFSETFROM:+0100
TZOFFSETTO:+0200
TZNAME:CEST
END:DAYLIGHT
END:VTIMEZONE
END:VCALENDAR