BEGIN:VCALENDAR
VERSION:2.0
PRODID:-//wp-events-plugin.com//7.2.3.1//EN
TZID:Europe/Berlin
X-WR-TIMEZONE:Europe/Berlin
BEGIN:VEVENT
UID:1742@frauenportal.koeln
DTSTART;TZID=Europe/Berlin:20190124T193000
DTEND;TZID=Europe/Berlin:20190124T213000
DTSTAMP:20210211T095220Z
URL:https://frauenportal.koeln/veranstaltungen/treffen-der-amigas-netzwerk
 -von-lesbischen-selbstaendigen-in-nrw/
SUMMARY:Treffen der Amigas – Netzwerk von lesbischen Selbständigen in NR
 W
DESCRIPTION:Netzwerktreffen im Januar in neuer Zusammensetzung im Vietvilla
 ge – einem vietnamesischen Restaurant am Hohenstaufenring.\n\nVeranstalt
 erin:\nAmigas – Netzwerk lesbische Selbstständige NRW\n\nAnsprechpartne
 rin:\nUta Feuerstein\, E-Mail: info@amigas.de\n&nbsp\;\nKosten / Anmeldung
 :\nEine Anmeldung ist nicht erforderlich. Neben dem eigenen Verzehr fällt
  kein Kostenbeitrag an.\n\nVeranstaltungsort:\nVietvillage\, Hohenstaufenr
 ing 14\, 50674 Köln\, [map id=13917]
END:VEVENT
BEGIN:VTIMEZONE
TZID:Europe/Berlin
X-LIC-LOCATION:Europe/Berlin
BEGIN:STANDARD
DTSTART:20181028T020000
TZOFFSETFROM:+0200
TZOFFSETTO:+0100
TZNAME:CET
END:STANDARD
END:VTIMEZONE
END:VCALENDAR