BEGIN:VCALENDAR
VERSION:2.0
PRODID:-//wp-events-plugin.com//7.2.3.1//EN
TZID:Europe/Berlin
X-WR-TIMEZONE:Europe/Berlin
BEGIN:VEVENT
UID:3694@frauenportal.koeln
DTSTART;TZID=Europe/Berlin:20220329T180000
DTEND;TZID=Europe/Berlin:20220329T200000
DTSTAMP:20220303T130102Z
URL:https://frauenportal.koeln/veranstaltungen/treffen-lebendiges-frauenne
 tzwerk-2/
SUMMARY:Treffen "Lebendiges Frauennetzwerk"
DESCRIPTION:"Das Lebendige Frauennetzwerk" ist eine Gruppe von (teil-)selbs
 tständigen Frauen\, die ein lebendiges Netzwerk zum gegenseitigen Austaus
 ch und Unterstützen aufbauen möchten.\n\nDie Treffen finden statt in der
  Brunostr. 4\, 50678 Köln.\n\nUm Anmeldung wird unter mail@anne-dellgruen
 .de gebeten.\n\nDie Teilnahme ist kostenlos!
END:VEVENT
BEGIN:VTIMEZONE
TZID:Europe/Berlin
X-LIC-LOCATION:Europe/Berlin
BEGIN:DAYLIGHT
DTSTART:20220327T030000
TZOFFSETFROM:+0100
TZOFFSETTO:+0200
TZNAME:CEST
END:DAYLIGHT
END:VTIMEZONE
END:VCALENDAR