BEGIN:VCALENDAR
VERSION:2.0
PRODID:-//wp-events-plugin.com//7.2.3.1//EN
TZID:Europe/Berlin
X-WR-TIMEZONE:Europe/Berlin
BEGIN:VEVENT
UID:2574@frauenportal.koeln
DTSTART;TZID=Europe/Berlin:20200330T163000
DTEND;TZID=Europe/Berlin:20200330T180000
DTSTAMP:20200316T154432Z
URL:https://frauenportal.koeln/veranstaltungen/trennung-scheidung-unterhal
 t-was-steht-mir-zu-19/
SUMMARY:Trennung / Scheidung – Unterhalt: Was steht mir zu?
DESCRIPTION:Der Termin findet nicht statt.\n\nInformationsnachmittag\n\nTre
 nnung und Scheidung haben eine Vielzahl rechtlicher Probleme zur Folge\, w
 ie z.B. die Auseinandersetzung um den Unterhalt. An diesem Nachmittag erl
 äutert eine Fachanwältin die Grundlagen für die Berechnung des Unterhal
 tes für Frauen und Kinder nach der Trennung oder Scheidung und stellt die
  Änderungen durch das neue Unterhaltsrecht vor.\n\nReferentin:\nUrsel Del
 heid\, Rechtsanwältin\, Mediatorin\, Fachanwältin für Familienrecht\n\n
 Veranstalterin:\nFrauenberatungszentrum Köln e.V.\n\nKosten / Anmeldung:\
 nEine Anmeldung ist erforderlich unter Tel.: 0221 / 4201620 beim Frauenber
 atungszentrum Köln. Kostenbeitrag 10 Euro (5 Euro ermäßigt).\n\nVeranst
 altungsort:\nFrauenberatungszentrum\, Friesenplatz 9\, 50672 Köln\, [map 
 id=895]
END:VEVENT
BEGIN:VTIMEZONE
TZID:Europe/Berlin
X-LIC-LOCATION:Europe/Berlin
BEGIN:DAYLIGHT
DTSTART:20200329T030000
TZOFFSETFROM:+0100
TZOFFSETTO:+0200
TZNAME:CEST
END:DAYLIGHT
END:VTIMEZONE
END:VCALENDAR