BEGIN:VCALENDAR
VERSION:2.0
PRODID:-//wp-events-plugin.com//7.2.3.1//EN
TZID:Europe/Berlin
X-WR-TIMEZONE:Europe/Berlin
BEGIN:VEVENT
UID:4453@frauenportal.koeln
DTSTART;TZID=Europe/Berlin:20231118T150000
DTEND;TZID=Europe/Berlin:20231118T170000
DTSTAMP:20231031T152736Z
URL:https://frauenportal.koeln/veranstaltungen/ueber-die-beginen-und-begin
 enhoefe-12/
SUMMARY:Über die Beginen und Beginenhöfe
DESCRIPTION:– Selbstentfaltung in einer Frauengemeinschaft –\n\nDer Beg
 inen Köln e.V. feiert im kommenden Jahr sein 30-jähriges Bestehen. Er ve
 rfolgt soziale\, kulturelle\, gesellschaftspolitische und spirituelle Anli
 egen. Mit seinem Veranstaltungsprogramm wendet er sich an die Öffentlichk
 eit.\n\nEines der wichtigsten Projekte des Vereins war der Bau des Beginen
 hofes in Köln-Widdersdorf. Seit Ende 2013 leben dort 27 der ca. 100 Verei
 ns-Frauen unter einem Dach.\n\nWer sich für die Beginen im Allgemeinen un
 d die Kölner Beginen im Besonderen mit ihren vielfältigen Tätigkeitsfel
 dern und Aufgaben interessiert\, ist herzlich eingeladen. \n\nReferentinne
 n:\nChristine Müthrath\, im Vorstand des Beginen Köln e. V.\nRita Gabor\
 , im Vorstand der Beginenhof Köln eG\n\nVeranstalterinnen:\nBeginen Köln
  e.V.\n\nAnsprechpartnerinnen:\nChristine Müthrath\, Tel.: 0221 / 9655820
 \, E-Mail: info@beginen.de\n\nKosten / Anmeldung:\nAnmeldung erforderlich\
 , kein Kostenbeitrag.
LOCATION:Beginenhof Köln\, Unter Linden 119\, 50859 Köln
GEO:50.9636513;6.8421158
X-APPLE-STRUCTURED-LOCATION;VALUE=URI;X-ADDRESS=Unter Linden 119\, Köln\, 
 50859\, Veranstaltungsort\, Deutschland;X-APPLE-RADIUS=100;X-TITLE=Beginen
 hof Köln:geo:50.9636513,6.8421158
END:VEVENT
BEGIN:VTIMEZONE
TZID:Europe/Berlin
X-LIC-LOCATION:Europe/Berlin
BEGIN:STANDARD
DTSTART:20231029T020000
TZOFFSETFROM:+0200
TZOFFSETTO:+0100
TZNAME:CET
END:STANDARD
END:VTIMEZONE
END:VCALENDAR