BEGIN:VCALENDAR
VERSION:2.0
PRODID:-//wp-events-plugin.com//7.2.3.1//EN
TZID:Europe/Berlin
X-WR-TIMEZONE:Europe/Berlin
BEGIN:VEVENT
UID:1195@frauenportal.koeln
DTSTART;TZID=Europe/Berlin:20180811T150000
DTEND;TZID=Europe/Berlin:20180811T170000
DTSTAMP:20180731T141448Z
URL:https://frauenportal.koeln/veranstaltungen/ueber-die-beginen-und-begin
 enhoefe-4/
SUMMARY:Über die Beginen und Beginenhöfe
DESCRIPTION:- Insbesondere über den Beginenhof in Köln-Widdersdorf -\n\nE
 nde 2013 wurde in Köln-Widdersdorf der erste Kölner Beginenhof fertigges
 tellt. Seither leben dort 27 Frauen unter einem Dach. Wer sich für die Be
 ginen im Allgemeinen und die Kölner Beginen im Besonderen mit ihren vielf
 ältigen Tätigkeitsfeldern und Aufgaben interessiert\, ist herzlich einge
 laden. Es wird über die Beginen im Mittelalter und die Beginen von heute 
 gesprochen\, über den Leitgedanken des Kölner Beginenvereins und den Beg
 inenhof in Köln-Widdersdorf und es wird berichtet über den Stand der Ent
 wicklung des geplanten zweiten Beginenhofs in Köln.\n\nReferentin:\nKarol
 a Kilens\, im Vorstand des Beginen Köln e.V.\n\nVeranstalterinnen:\nBegin
 en Köln e.V.\n\nAnsprechpartnerinnen:\nChristine Müthrath\, Tel.: 0221 /
  9655820\, E-Mail: info@beginen.de\n\nVeranstaltungsort:\nBeginentreff im 
 Beginenhof Köln\, Unter Linden 119\, 50859 Köln\, [map id=1048]
END:VEVENT
BEGIN:VTIMEZONE
TZID:Europe/Berlin
X-LIC-LOCATION:Europe/Berlin
BEGIN:DAYLIGHT
DTSTART:20180325T030000
TZOFFSETFROM:+0100
TZOFFSETTO:+0200
TZNAME:CEST
END:DAYLIGHT
END:VTIMEZONE
END:VCALENDAR