BEGIN:VCALENDAR
VERSION:2.0
PRODID:-//wp-events-plugin.com//7.2.3.1//EN
TZID:Europe/Berlin
X-WR-TIMEZONE:Europe/Berlin
BEGIN:VEVENT
UID:1789@frauenportal.koeln
DTSTART;TZID=Europe/Berlin:20190209T150000
DTEND;TZID=Europe/Berlin:20190209T163000
DTSTAMP:20190131T193959Z
URL:https://frauenportal.koeln/veranstaltungen/ueber-die-beginen-und-begin
 enhoefe-6/
SUMMARY:Über die Beginen und Beginenhöfe
DESCRIPTION:Der Beginen Köln e.V. feiert 2019 sein 25-jähriges Bestehen. 
 Er verfolgt soziale\, kulturelle\, gesellschaftspolitische und spirituelle
  Anliegen. Mit dem Veranstaltungsprogramm „Begegnung und Kultur“ wende
 t er sich an die Öffentlichkeit.\n\nEines der wichtigsten Projekte des Ve
 reins war der Bau des Beginenhofes in Köln-Widdersdorf. Seit Ende 2013 le
 ben dort 27 der 110 Vereins-Frauen unter einem Dach. \n\nWer sich für die
  Beginen im Allgemeinen und die Kölner Beginen im Besonderen mit ihren vi
 elfältigen Tätigkeitsfeldern und Aufgaben interessiert\, ist herzlich ei
 ngeladen. Gesprochen wird über die Beginen im Mittelalter und die Beginen
  von heute\, über den Leitgedanken des Beginen Köln e.V. und den Beginen
 hof in Köln Widdersdorf.\n\nReferentin:\nKarola Kilens\, im Vorstand des 
 Beginen Köln e.V.\n\nVeranstalterinnen:\nBeginen Köln e.V.\n\nAnsprechpa
 rtnerinnen:\nChristine Müthrath\, Tel.: 0221 / 9655820\, E-Mail: info@beg
 inen.de\n\nKosten / Anmeldung:\nAnmeldung erforderlich\, kein Kostenbeitra
 g.\n\nVeranstaltungsort:\nBeginentreff im Beginenhof Köln\, Unter Linden 
 119\, 50859 Köln\, [map id=1048]
END:VEVENT
BEGIN:VTIMEZONE
TZID:Europe/Berlin
X-LIC-LOCATION:Europe/Berlin
BEGIN:STANDARD
DTSTART:20181028T020000
TZOFFSETFROM:+0200
TZOFFSETTO:+0100
TZNAME:CET
END:STANDARD
END:VTIMEZONE
END:VCALENDAR