BEGIN:VCALENDAR
VERSION:2.0
PRODID:-//wp-events-plugin.com//7.2.3.1//EN
TZID:Europe/Berlin
X-WR-TIMEZONE:Europe/Berlin
BEGIN:VEVENT
UID:1962@frauenportal.koeln
DTSTART;TZID=Europe/Berlin:20190601T110000
DTEND;TZID=Europe/Berlin:20190601T131500
DTSTAMP:20190531T145308Z
URL:https://frauenportal.koeln/veranstaltungen/ueber-die-beginen-und-begin
 enhoefe-7/
SUMMARY:Über die Beginen und Beginenhöfe
DESCRIPTION:Der Beginen Köln e.V. feiert 2019 sein 25-jähriges Bestehen. 
 Er verfolgt soziale\, kulturelle\, gesellschaftspolitische und spirituelle
  Anliegen. Mit dem Veranstaltungsprogramm „Begegnung und Kultur“ wende
 t er sich an die Öffentlichkeit.\nEines der wichtigsten Projekte des Vere
 ins war der Bau des Beginenhofes in Köln-Widdersdorf. Seit Ende 2013 lebe
 n dort 27 der 110 Vereins-Frauen unter einem Dach.\n\nWer sich für die Be
 ginen im Allgemeinen und die Kölner Beginen im Besonderen mit ihren vielf
 ältigen Tätigkeitsfeldern und Aufgaben interessiert\, ist herzlich einge
 laden. Es wird über die Beginen im Mittelalter und die Beginen von heute 
 gesprochen\, über den Leitgedanken des Beginen Köln e.V. und den Beginen
 hof in Köln Widdersdorf\n\nReferentin:\nChristine Müthrath\, im Vorstand
  des Beginen Köln e.V.\n\nVeranstalterinnen:\nBeginen Köln e.V.\nMelanch
 thon-Akademie Köln\, Interent: www.melanchthon-akademie.de\n\nAnsprechpar
 tnerinnen:\nChristine Müthrath\, Tel.: 0221 / 9655820\, E-Mail: info@begi
 nen.de\n\nKosten / Anmeldung:\nOhne Kostenbeitrag\, Anmeldung über anmeld
 ung@melanchthon-akademie.de oder 0221 / 931803-0 (Tel. Melanchthon-Akademi
 e)\n\nVeranstaltungsort:\nMelanchthon-Akademie Köln\, Kartäuserwall 24b\
 , 50678 Köln\, [map id=931]
END:VEVENT
BEGIN:VTIMEZONE
TZID:Europe/Berlin
X-LIC-LOCATION:Europe/Berlin
BEGIN:DAYLIGHT
DTSTART:20190331T030000
TZOFFSETFROM:+0100
TZOFFSETTO:+0200
TZNAME:CEST
END:DAYLIGHT
END:VTIMEZONE
END:VCALENDAR