BEGIN:VCALENDAR
VERSION:2.0
PRODID:-//wp-events-plugin.com//7.2.3.1//EN
TZID:Europe/Berlin
X-WR-TIMEZONE:Europe/Berlin
BEGIN:VEVENT
UID:6133@frauenportal.koeln
DTSTART;TZID=Europe/Berlin:20260308T180000
DTEND;TZID=Europe/Berlin:20260308T193000
DTSTAMP:20260227T160716Z
URL:https://frauenportal.koeln/veranstaltungen/unbeschreiblich-weiblich-fe
 mme-2/
SUMMARY:Unbeschreiblich weiblich: Femme!
DESCRIPTION:Zwischen Spiegeln und Marionetten: Eine faszinierende Reise dur
 ch die Vielfalt des Frauseins.\n\nIn einer Collage aus Szenen\, Monologen\
 , Bewegung und Videobildern begegnet das Publikum Figuren\, die nach Sprac
 he suchen für das\, was viele spüren: Freiheitsversprechen – und die f
 einen Normen\, die trotzdem lenken. Eine junge Frau erstarrt im Überangeb
 ot an Optionen. Eine Psychologin ringt zwischen feministischen Idealen und
  eigener Biografie. Eine Influencerin bewegt sich in einem scheinbar selbs
 tbestimmten Raum\, der ständig bewertet.\n\nDas Stück fragt: Wie viel Au
 tonomie ist möglich\, wenn Rollenbilder\, Erwartungen und Selbstoptimieru
 ng immer mitlaufen? Und wo bleibt Solidarität\, wenn jede für sich „fu
 nktionieren“ soll?\n\nEin Abend über Widersprüche – klar\, humorvoll
 \, körperlich\, bildstark.\n\nZweiter Termin:\nFreitag 13.03.2026\, 20 Uh
 r\n\nVeranstalterin:\ntheakult\, www.theakult.com\nSchirrmherrschaft: Woma
 ns Business Club Cologne\n\nAnsprechpartnerin:\nMartina Fach-Overhoff\, Te
 l.: 0172 / 2440009\, E-Mail: supervision.mfo@t-online.de\n\nKosten:\nab 20
  Euro. Tickets unter www.koelnticket.de 
LOCATION:Hinterhofsalon\, Aachener Str. 68\, 50674 Köln
GEO:50.9367218;6.933292499999993
X-APPLE-STRUCTURED-LOCATION;VALUE=URI;X-ADDRESS=Aachener Str. 68\, Köln\, 
 50674\, Veranstaltungsort\, Deutschland;X-APPLE-RADIUS=100;X-TITLE=Hinterh
 ofsalon:geo:50.9367218,6.933292499999993
END:VEVENT
BEGIN:VTIMEZONE
TZID:Europe/Berlin
X-LIC-LOCATION:Europe/Berlin
BEGIN:STANDARD
DTSTART:20251026T020000
TZOFFSETFROM:+0200
TZOFFSETTO:+0100
TZNAME:CET
END:STANDARD
END:VTIMEZONE
END:VCALENDAR