BEGIN:VCALENDAR
VERSION:2.0
PRODID:-//wp-events-plugin.com//7.2.3.1//EN
TZID:Europe/Berlin
X-WR-TIMEZONE:Europe/Berlin
BEGIN:VEVENT
UID:5234@frauenportal.koeln
DTSTART;TZID=Europe/Berlin:20241206T200000
DTEND;TZID=Europe/Berlin:20241206T213000
DTSTAMP:20241031T180003Z
URL:https://frauenportal.koeln/veranstaltungen/unbeschreiblich-weiblich-fe
 mme/
SUMMARY:Unbeschreiblich weiblich: Femme!
DESCRIPTION:Zwischen Spiegeln und Marionetten: Eine faszinierende Reise dur
 ch die Vielfalt des Frauseins.\n\nDas packende Stück rückt die komplexen
  Herausforderungen und Freiräume des Frauseins in den Fokus. In einer Zei
 t politischer und gesellschaftlicher Gegensätze durchlaufen die Protagoni
 stinnen persönliche Entdeckungsreisen\, die viele Facetten des Frauseins 
 offenbaren.\n\nVon der jungen Frau\, die vor den unzähligen Lebensentsche
 idungen erstarrt\, über die Psychologin\, die zwischen feministischen Ide
 alen und inneren Konflikten gefangen ist\, bis hin zur Influencerin\, die 
 sich im Schein der Selbstbestimmung verliert – alle sind auf der Suche n
 ach ihrer eigenen Stimme.\n\nDieses außergewöhnliche Theaterstück ist e
 ine visuelle und emotionale Collage\, die den Zuschauerinnen und Zuschauer
 n ermöglicht\, über ihre eigenen Rollenbilder nachzudenken und zu reflek
 tieren\, wie die Gesellschaft uns formt und wie wir sie verändern können
 .\n\nHier ist die Einladung: Unbeschreiblich Weiblich WBC-Einladung (pdf-D
 atei\, 239 KB)\n\nVeranstalterin:\ntheakult\, www.theakult.com\nSchirrmher
 rschaft: Womans Business Club Cologne\n\nAnsprechpartnerin:\nMartina Fach-
 Overhoff\, Tel.: 0172 / 2440009\, E-Mail: supervision.mfo@t-online.de\n\nK
 osten:\n20 Euro\, ermäßigt 15 Euro.\nTickets unter www.horizont-theater.
 de oder unter Tel: 0221 / 13 16 04 
LOCATION:Horizont Theater\, Thürmchenswall 25\, 50668 Köln
GEO:50.949483;6.960064
X-APPLE-STRUCTURED-LOCATION;VALUE=URI;X-ADDRESS=Thürmchenswall 25\, Köln\
 , Nordrhein-Westfalen\, 50668\, Deutschland;X-APPLE-RADIUS=100;X-TITLE=Hor
 izont Theater:geo:50.949483,6.960064
END:VEVENT
BEGIN:VTIMEZONE
TZID:Europe/Berlin
X-LIC-LOCATION:Europe/Berlin
BEGIN:STANDARD
DTSTART:20241027T020000
TZOFFSETFROM:+0200
TZOFFSETTO:+0100
TZNAME:CET
END:STANDARD
END:VTIMEZONE
END:VCALENDAR