BEGIN:VCALENDAR
VERSION:2.0
PRODID:-//wp-events-plugin.com//7.2.3.1//EN
TZID:Europe/Berlin
X-WR-TIMEZONE:Europe/Berlin
BEGIN:VEVENT
UID:3241@frauenportal.koeln
DTSTART;TZID=Europe/Berlin:20210413T163000
DTEND;TZID=Europe/Berlin:20210413T183000
DTSTAMP:20210430T100702Z
URL:https://frauenportal.koeln/veranstaltungen/und-das-soll-liebe-sein-10/
SUMMARY:„Und das soll Liebe sein?“
DESCRIPTION:Der Termin findet nicht statt.\n\nThemenabend\n\nUm die Familie
  zusammenzuhalten\, die Kinder nicht zu enttäuschen\, vielleicht auch\, w
 eil es noch einen Funken Hoffnung gibt\, halten Sie vieles aus? \nKontroll
 e\, Aggression\, Demütigung\, Abhängigkeit\, Misstrauen\, schlecht Mache
 n…\nAktuell gibt es im Internet eine Flut von sogenannten Ratgeber-Seite
 n zum Thema körperliche und emotionale Gewalt durch Narzissten. „Eine s
 imple Frage entlarvt Narzissten“\,  „Strategien im Umgang mit Narzisst
 en“ sind hierfür nur zwei Beispiele.\n\nAn diesem Abend soll es um die 
 psychologischen Hintergründe von Narzissmus gehen. Was steckt eigentlich 
 hinter dieser Persönlichkeitsstörung und wie wird sie diagnostiziert? Ei
 n Blick auf die eigene Beziehung / den eigenen Partner und mögliche Handl
 ungsschritte folgt anschließend.  \n\nReferentin:\nGesine Qualitz (Dipl.-
 Pädagogin\, systemische Beraterin)\n\nVeranstalterin:\nFrauenberatungszen
 trum Köln e.V.\n\nKosten / Anmeldung:\nEine Anmeldung ist erforderlich un
 ter Tel.: 0221 / 4201620 beim Frauenberatungszentrum Köln. Kostenbeitrag 
 7 Euro.\n\nVeranstaltungsort:\nFrauenberatungszentrum\, Friesenplatz 9\, 5
 0672 Köln\, [map id=895]
END:VEVENT
BEGIN:VTIMEZONE
TZID:Europe/Berlin
X-LIC-LOCATION:Europe/Berlin
BEGIN:DAYLIGHT
DTSTART:20210328T030000
TZOFFSETFROM:+0100
TZOFFSETTO:+0200
TZNAME:CEST
END:DAYLIGHT
END:VTIMEZONE
END:VCALENDAR