BEGIN:VCALENDAR
VERSION:2.0
PRODID:-//wp-events-plugin.com//7.2.3.1//EN
TZID:Europe/Berlin
X-WR-TIMEZONE:Europe/Berlin
BEGIN:VEVENT
UID:2061@frauenportal.koeln
DTSTART;TZID=Europe/Berlin:20191113T170000
DTEND;TZID=Europe/Berlin:20191113T190000
DTSTAMP:20190830T162114Z
URL:https://frauenportal.koeln/veranstaltungen/und-das-soll-liebe-sein-2/
SUMMARY:„Und das soll Liebe sein?“
DESCRIPTION:Themenabend\n\nUm die Familie zusammenzuhalten\, die Kinder nic
 ht zu enttäuschen\, vielleicht auch\, weil es noch einen Funken Hoffnung 
 gibt\, halten Sie vieles aus? \nKontrolle\, Aggression\, Demütigung\, Abh
 ängigkeit\, Misstrauen\, schlecht Machen…\nAktuell gibt es im Internet 
 eine Flut von sogenannten Ratgeber-Seiten zum Thema körperliche und emoti
 onale Gewalt durch Narzissten. „Eine simple Frage entlarvt Narzissten“
 \,  „Strategien im Umgang mit Narzissten“ sind hierfür nur zwei Beisp
 iele.\n\nAn diesem Abend soll es um die psychologischen Hintergründe von 
 Narzissmus gehen. Was steckt eigentlich hinter dieser Persönlichkeitsstö
 rung und wie wird sie diagnostiziert? Ein Blick auf die eigene Beziehung /
  den eigenen Partner und mögliche Handlungsschritte folgt anschließend. 
  \n\nReferentin:\nGesine Qualitz (Dipl.-Pädagogin\, systemische Beraterin
 )\n\nVeranstalterin:\nFrauenberatungszentrum Köln e.V.\n\nKosten / Anmeld
 ung:\nEine Anmeldung ist erforderlich unter Tel.: 0221 / 4201620 beim Frau
 enberatungszentrum Köln. Kostenbeitrag 7 Euro.\n\nVeranstaltungsort:\nFra
 uenberatungszentrum\, Friesenplatz 9\, 50672 Köln\, [map id=895]
END:VEVENT
BEGIN:VTIMEZONE
TZID:Europe/Berlin
X-LIC-LOCATION:Europe/Berlin
BEGIN:STANDARD
DTSTART:20191027T020000
TZOFFSETFROM:+0200
TZOFFSETTO:+0100
TZNAME:CET
END:STANDARD
END:VTIMEZONE
END:VCALENDAR