BEGIN:VCALENDAR
VERSION:2.0
PRODID:-//wp-events-plugin.com//7.2.3.1//EN
TZID:Europe/Berlin
X-WR-TIMEZONE:Europe/Berlin
BEGIN:VEVENT
UID:2566@frauenportal.koeln
DTSTART;TZID=Europe/Berlin:20200722T163000
DTEND;TZID=Europe/Berlin:20200722T183000
DTSTAMP:20200630T132957Z
URL:https://frauenportal.koeln/veranstaltungen/und-das-soll-liebe-sein-6/
SUMMARY:„Und das soll Liebe sein?“
DESCRIPTION:Der Termin findet nicht statt.\nThemenabend\n\nUm die Familie z
 usammenzuhalten\, die Kinder nicht zu enttäuschen\, vielleicht auch\, wei
 l es noch einen Funken Hoffnung gibt\, halten Sie vieles aus? \nKontrolle\
 , Aggression\, Demütigung\, Abhängigkeit\, Misstrauen\, schlecht Machen
 …\nAktuell gibt es im Internet eine Flut von sogenannten Ratgeber-Seiten
  zum Thema körperliche und emotionale Gewalt durch Narzissten. „Eine si
 mple Frage entlarvt Narzissten“\,  „Strategien im Umgang mit Narzisste
 n“ sind hierfür nur zwei Beispiele.\n\nAn diesem Abend soll es um die p
 sychologischen Hintergründe von Narzissmus gehen. Was steckt eigentlich h
 inter dieser Persönlichkeitsstörung und wie wird sie diagnostiziert? Ein
  Blick auf die eigene Beziehung / den eigenen Partner und mögliche Handlu
 ngsschritte folgt anschließend.  \n\nReferentin:\nGesine Qualitz (Dipl.-P
 ädagogin\, systemische Beraterin)\n\nVeranstalterin:\nFrauenberatungszent
 rum Köln e.V.\n\nKosten / Anmeldung:\nEine Anmeldung ist erforderlich unt
 er Tel.: 0221 / 4201620 beim Frauenberatungszentrum Köln. Kostenbeitrag 7
  Euro.\n\nVeranstaltungsort:\nFrauenberatungszentrum\, Friesenplatz 9\, 50
 672 Köln\, [map id=895]
END:VEVENT
BEGIN:VTIMEZONE
TZID:Europe/Berlin
X-LIC-LOCATION:Europe/Berlin
BEGIN:DAYLIGHT
DTSTART:20200329T030000
TZOFFSETFROM:+0100
TZOFFSETTO:+0200
TZNAME:CEST
END:DAYLIGHT
END:VTIMEZONE
END:VCALENDAR