BEGIN:VCALENDAR
VERSION:2.0
PRODID:-//wp-events-plugin.com//7.2.3.1//EN
TZID:Europe/Berlin
X-WR-TIMEZONE:Europe/Berlin
BEGIN:VEVENT
UID:5020@frauenportal.koeln
DTSTART;TZID=Europe/Berlin:20240611T160000
DTEND;TZID=Europe/Berlin:20240611T193000
DTSTAMP:20240403T140047Z
URL:https://frauenportal.koeln/veranstaltungen/unternehmerinnen-roulette-m
 it-vorbild-unternehmerinnen/
SUMMARY:Unternehmerinnen-Roulette mit Vorbild-Unternehmerinnen
DESCRIPTION:– weiblich-innovativ-erfolgreich – Von Vorbild-Unternehmeri
 nnen lernen –\n\nProgramm:\n\n16.00 Uhr\nAnkommen bei Kaffee\, Tee und K
 altgetränken\n\n16.30 Uhr \nBegrüßung: Anke Hosse-Doblinger\, Leiterin 
 Beratungscenter Wirtschaftsförderung der NRW.BANK\n\nGrußwort: Dr. Meike
  Rabanus\, Referatsleiterin Gründungen\, STARTERCENTER NRW im Ministerium
  für Wirtschaft\, Industrie\, Klimaschutz und Energie des Landes Nordrhei
 n-Westfalen\n\nKurzvortrag: "Förderungen – Die NRW.BANK als dein Partne
 r"\nFörderung ist vielfältig. Hier gibt es anhand konkreter Beispiele ei
 nen greifbaren Überblick über Fördermöglichkeiten – von Beratungsang
 eboten bis zum passenden Förderprodukt.\nSimone Plum und Hanna Schilling\
 , Förderberaterinnen der NRW.BANK\n\n"Mein Weg in die Selbstständigkeit"
  – Keynotes:\nMelanie Goldhagen\, KidzzInForm\, Oer-Erkenschwick\nInez K
 oestel\, WAM Die Medienakademie GmbH & Co. KG\n\n18.00 Uhr Unternehmerinne
 n-Roulette mit Vorbild Unternehmerinnen \nin 3 Runden à 20 Minuten\n"Was 
 Du eine Unternehmerin schon immer fragen wolltest…" \nKleingruppengespr
 äche (jeweils maximal vier Frauen) mit mindestens drei der fünfzehn anwe
 senden Vorbild-Unternehmerinnen. Alle Fragen sind erlaubt. Egal ob es um W
 erdegang\, Unternehmensführung oder Work-Life-Balance geht. Bereits bei d
 er Anmeldung wird die Roulettekugel auf die eigene „Wunsch-Unternehmerin
 “ gesetzt. Die anderen beiden Vorbild- Unternehmerinnen bestimmt der Zuf
 all.\n\n19.15 Uhr \nAusklang bei netten Gesprächen und Imbiss\n\nModerati
 on: Andrea Blome\, Journalistin\n\nHier ist die Einladung: Unternehmerinne
 n-Roulette mit Vorbildunternehmerinnen (pdf-Datei\, 3 MB)\n\nVeranstalteri
 nnen:\nKölner Vorbildunternehmerinnen der Initiative „FRAUEN unternehme
 n“ des Bundesministeriums für Wirtschaft und Energie (frauen-unternehme
 n-initiative.de\, www.vorbildunternehmerinnen-koeln.de) in Kooperation mit
  der NRW.BANK\, www.nrwbank.de\n\nAnsprechpartnerinnen:\nJudith Schröer\,
  Tel.: 0209  /155166-3\, E-Mail: info@frauen-unternehmen-initiative.de \n\
 nKosten / Anmeldung:\nEintritt frei\, Anmeldung erforderlich unter https:/
 /www.prospektiv.de/roulette/
LOCATION:NRW.BANK\, Kavalleriestr. 22\, 40213 Düsseldorf
GEO:51.217267;6.770754
X-APPLE-STRUCTURED-LOCATION;VALUE=URI;X-ADDRESS=Kavalleriestr. 22\, Düssel
 dorf\, Nordrhein-Westfalen\, 40213\, Veranstaltungsort\, Deutschland;X-APP
 LE-RADIUS=100;X-TITLE=NRW.BANK:geo:51.217267,6.770754
END:VEVENT
BEGIN:VTIMEZONE
TZID:Europe/Berlin
X-LIC-LOCATION:Europe/Berlin
BEGIN:DAYLIGHT
DTSTART:20240331T030000
TZOFFSETFROM:+0100
TZOFFSETTO:+0200
TZNAME:CEST
END:DAYLIGHT
END:VTIMEZONE
END:VCALENDAR