BEGIN:VCALENDAR
VERSION:2.0
PRODID:-//wp-events-plugin.com//7.2.3.1//EN
TZID:Europe/Berlin
X-WR-TIMEZONE:Europe/Berlin
BEGIN:VEVENT
UID:487@frauenportal.koeln
DTSTART;TZID=Europe/Berlin:20170919T140000
DTEND;TZID=Europe/Berlin:20170919T180000
DTSTAMP:20180531T073937Z
URL:https://frauenportal.koeln/veranstaltungen/unternehmerinnenspaziergang
 -never-walk-alone/
SUMMARY:Unternehmerin&shy\;nenspaziergang: „never walk alone”  
DESCRIPTION:Das STARTERCENTER NRW im Amt für Wirtschaftsförderung der Sta
 dt Köln bietet 19. September 2017 bereits zum zweiten Mal einen „Untern
 ehmerinnenspaziergang“ an.\n\nFünf vom Bundesministerium für Wirtschaf
 t und Energie (BMWi) als „Vorbild-Unternehmerinnen“ ausgezeichnete Kö
 lner Unternehmerinnen stellen sich persönlich vor und stehen Ihnen für e
 inen individuellen Erfahrungsaustausch im Einzelgespräch während eines k
 urzen Spaziergangs am Rheinufer zur Verfügung. Daneben besteht die Mögli
 chkeit zum Netzwerken im Café.\nTeilnehmende Vorbildunternehmerinnen:\n\n
  	Sabine Schorn – www.schorn-consult.de // www.schorn-communication.de\n
 Dipl.-Ing. Architektin – Schorn Consult // Schorn Communication\nRegiona
 lbeauftragte Rheinland der Initiative „FRAUEN unternehmen“ des BMWi\n 
 	Dr. Marita Alami – www.forumf.de\nM.A. und Dr. phil. – forumF-Online\
 n 	Sue Appelton – www.do-loop.de\ndo_loop – Beratung + Design fürs We
 b\n 	Gitta Quercia-Naumann – www.lingenbacher-hof.de\nNaumanns im Lingen
 bacher Hof im Freilichtmuseum Lindlar\n 	Martina Teichelmann – www.agent
 ur-thebikon.de\nThebikon – Agentur für therapeutische Bildkonzepte\n\nH
 ier ist die Einladung: Unternehmerinnenspaziergang: „#never walk alone 2
 .0”\, 18.09.17\, pdf-Datei\, 261 KB\n\nVeranstalterInnen:\n\n 	STARTERCE
 NTER NRW im Amt für Wirtschaftsförderung der Stadt Köln\, www.stadt-koe
 ln.de/wirtschaft/startercenter/\n 	Vorbildunternehmerinnen der BMWi-Initia
 tive "FRAUEN unternehmen"\, www.frauen-unternehmen-initiative.de\n\nKontak
 t / Anmeldung:\nFrau Lessenich\, Tel.: 0221 / 221 33666\, E-Mail: starterc
 enternrw@stadt-koeln.de\n\nKosten / Anmeldung:\nDie Teilnahme ist kostenfr
 ei.\n\nVeranstaltungsort:\nTreffpunkt im "Ludwig im Museum"\, Heinrich-Bö
 ll-Platz\, 50667 Köln\, [map id=11795]
END:VEVENT
BEGIN:VTIMEZONE
TZID:Europe/Berlin
X-LIC-LOCATION:Europe/Berlin
BEGIN:DAYLIGHT
DTSTART:20170326T030000
TZOFFSETFROM:+0100
TZOFFSETTO:+0200
TZNAME:CEST
END:DAYLIGHT
END:VTIMEZONE
END:VCALENDAR