BEGIN:VCALENDAR
VERSION:2.0
PRODID:-//wp-events-plugin.com//7.2.3.1//EN
TZID:Europe/Berlin
X-WR-TIMEZONE:Europe/Berlin
BEGIN:VEVENT
UID:2389@frauenportal.koeln
DTSTART;TZID=Europe/Berlin:20191027T140000
DTEND;TZID=Europe/Berlin:20191027T153000
DTSTAMP:20191021T101147Z
URL:https://frauenportal.koeln/veranstaltungen/urbane-kunst-in-ehrenfeld/
SUMMARY:Urbane Kunst in Ehrenfeld
DESCRIPTION:Was versteht man unter urbaner Kunst und Street art\, wie kommt
  die Kunst an die Wand? Was ist deren Ursprung\, was ist City leaks in Kö
 ln\, welche Materialien werden benutzt? Dieser Rundgang durch Ehrenfeld bz
 w. das Belgische Viertel mit Stopps an den verschiedenen Kunstobjekten gib
 t Informationen über die KünstlerInnen\, deren Botschaften und Arbeitswe
 isen. \n\nKosten Euro 11\,00 pro Person\nTreffpunkt: Gerhard-Wilczek-Platz
 \, Glasstraße\, 50823 Köln\n\nErlebnistouren Köln &amp\; Region - Tour-
 Agentur\n\n
END:VEVENT
BEGIN:VTIMEZONE
TZID:Europe/Berlin
X-LIC-LOCATION:Europe/Berlin
BEGIN:STANDARD
DTSTART:20191027T020000
TZOFFSETFROM:+0200
TZOFFSETTO:+0100
TZNAME:CET
END:STANDARD
END:VTIMEZONE
END:VCALENDAR