BEGIN:VCALENDAR
VERSION:2.0
PRODID:-//wp-events-plugin.com//7.2.3.1//EN
TZID:Europe/Berlin
X-WR-TIMEZONE:Europe/Berlin
BEGIN:VEVENT
UID:6182@frauenportal.koeln
DTSTART;TZID=Europe/Berlin:20260416T134500
DTEND;TZID=Europe/Berlin:20260416T180000
DTSTAMP:20260331T132607Z
URL:https://frauenportal.koeln/veranstaltungen/vdu-sicherheit-aus-der-luft
 /
SUMMARY:VdU: Sicherheit aus der Luft
DESCRIPTION:Besuch des Bundeswehrstandortes Köln-Wahn mit exklusiven Einbl
 icken in die Aufgaben\, Strukturen und aktuellen Herausforderungen der Bun
 deswehr – insbesondere der Luftwaffe.\n\nEin besonderer Programmpunkt wi
 rd eine Einweisung in die am Flugplatz Wahn eingesetzten Luftfahrzeuge sei
 n – entweder durch die Flugbereitschaft der Bundeswehr und/oder die mult
 inationale Tankerflotte. Geplant ist eine Besichtigung der Luftfahrzeuge a
 us nächster Nähe und – sofern dienstlich möglich – auch die Gelegen
 heit\, diese zu begehen. \n\nDarüber hinaus befindet sich die Bundeswehr\
 , insbesondere die Luftwaffe\, aktuell in einer Phase tiefgreifender Weite
 rentwicklung. Zahlreiche neue Waffensysteme werden beschafft und strategis
 che Weichen für die Zukunft gestellt. Vor diesem Hintergrund wird es um d
 ie zukünftige Ausrichtung der Luftwaffe sowie die damit verbundenen techn
 ischen\, organisatorischen und sicherheitspolitischen Herausforderungen ge
 hen.\n\nAbgerundet wird der Besuch durch einen einführenden Impulsvortrag
  von Brigadegeneral Daniel Draken und einen persönlichen Austausch im Rah
 men eines gemeinsamen Abendessens im Kasino des Standortes.\n\nDer Nachmit
 tag bietet eine außergewöhnliche Gelegenheit\, sicherheitspolitische The
 men aus erster Hand kennenzulernen und den Dialog zwischen Unternehmertum 
 und Bundeswehr zu vertiefen.\n\nReferent: \nBrigadegeneral Daniel Draken\,
  Chef des Stabes Luftwaffentruppenkommando und Standortältester Köln\n\n
 Veranstalterin:\nVerband der Unternehmerinnen in Deutschland (VdU)\n\nAnsp
 rechpartnerin:\nPetra Fischer\, Mobil: 0173 / 663 1405\, E-Mail: petra.fis
 cher@vdu.de\n\nKosten / Anmeldung:\nDie Ausweise sind an diesem Tag mitzuf
 ühren. Für das Passwechselverfahren an der Wache sollten ca. 10 Minuten 
 vor Beginn der Veranstaltung eingeplant werden. Anmeldung unter: https://e
 vents.vdu.de/event/sessions?id=TEMP_VdU_kostenpflichtige_VA837679092\n
LOCATION:Luftwaffenkaserne Köln-Wahn\, Flughafenstr. 1\, 51147 Köln
GEO:50.856412;7.112037
X-APPLE-STRUCTURED-LOCATION;VALUE=URI;X-ADDRESS=Flughafenstr. 1\, Köln\, N
 ordrhein-Westfalen\, 51147\, Veranstaltungsort\, Deutschland;X-APPLE-RADIU
 S=100;X-TITLE=Luftwaffenkaserne Köln-Wahn:geo:50.856412,7.112037
END:VEVENT
BEGIN:VTIMEZONE
TZID:Europe/Berlin
X-LIC-LOCATION:Europe/Berlin
BEGIN:DAYLIGHT
DTSTART:20260329T030000
TZOFFSETFROM:+0100
TZOFFSETTO:+0200
TZNAME:CEST
END:DAYLIGHT
END:VTIMEZONE
END:VCALENDAR