BEGIN:VCALENDAR
VERSION:2.0
PRODID:-//wp-events-plugin.com//7.2.3.1//EN
TZID:Europe/Berlin
X-WR-TIMEZONE:Europe/Berlin
BEGIN:VEVENT
UID:2392@frauenportal.koeln
DTSTART;TZID=Europe/Berlin:20191101T140000
DTEND;TZID=Europe/Berlin:20191101T160000
DTSTAMP:20191021T094619Z
URL:https://frauenportal.koeln/veranstaltungen/veedel-im-kontrast-severins
 viertel-suedstadt-rheinauhafen/
SUMMARY:Veedel im Kontrast: Severinsviertel\, Südstadt\, Rheinauhafen
DESCRIPTION:Drei Kölsche Veedel\, jedes völlig anders und jedes mit seine
 m eigenen Charme und Flair: Das Severinsviertel als ehemaliges ArbeiterInn
 enviertel\, die Neustadt-Süd als BürgerInnenviertel und Kölns jüngster
  Stadtteil\, der Rheinauhafen.\n\nKosten: Euro 12\,00 pro Person\nTreffpun
 kt: Severinstor\, Chlodwigplatz\n\nErlebnistouren Köln &amp\; Region - To
 ur-Agentur\n
END:VEVENT
BEGIN:VTIMEZONE
TZID:Europe/Berlin
X-LIC-LOCATION:Europe/Berlin
BEGIN:STANDARD
DTSTART:20191027T020000
TZOFFSETFROM:+0200
TZOFFSETTO:+0100
TZNAME:CET
END:STANDARD
END:VTIMEZONE
END:VCALENDAR