BEGIN:VCALENDAR
VERSION:2.0
PRODID:-//wp-events-plugin.com//7.2.3.1//EN
TZID:Europe/Berlin
X-WR-TIMEZONE:Europe/Berlin
BEGIN:VEVENT
UID:4352@frauenportal.koeln
DTSTART;TZID=Europe/Berlin:20231026T190000
DTEND;TZID=Europe/Berlin:20231026T203000
DTSTAMP:20230928T081204Z
URL:https://frauenportal.koeln/veranstaltungen/veranstaltung-fuer-angehoer
 ige-von-frauen-und-maedchen-mit-essstoerungen-2/
SUMMARY:Veranstaltung für Angehörige von Frauen* und Mädchen* mit Essst
 örungen
DESCRIPTION:– Information\, Beratung und offener Austausch –\n\nNicht n
 ur Betroffene benötigen Unterstützung…\nEssstörungen sind eine vielsc
 hichtige Erkrankung\, die sich in unterschiedlichster Form zeigen kann und
  für alle Beteiligten herausfordernd ist.\nDie Veranstaltung richtet sich
  an Eltern\, Verwandte\, Lebensgefährt*innen oder andere Hilfesuchende\, 
 die im nahen Kontakt mit einer Betroffenen stehen\, und sich Unterstützun
 g wünschen und an Austausch interessiert sind.\nDer Austausch mit anderen
  Angehörigen wird oft als eine entlastende Erfahrung erlebt und eröffnet
  neue Perspektiven und Möglichkeiten. In einer wertschätzenden Atmosphä
 re möchte Carola Ott den Teilnehmenden mit fundierten Informationen rund 
 um das Thema Essstörungen bei Frauen* und Mädchen* zur Seite stehen. Gem
 einsam wird der Blick auf das gelenkt\, was hilfreich und nützlich ist. E
 s gibt Gelegenheit\, eigene Fragen zu stellen und sich in der Runde auszut
 auschen.\n\n*Transidente Menschen\, die sich in der großen Bandbreite von
  Geschlechterzuschreibungen und -erfahrungen selbst eher als Frau* definie
 ren bzw. damit vertraut oder sichtbar sind\, sind bei uns herzlich willkom
 men.\n\nModeration und fachlicher Input:\nCarola Ott – Heilpraktikerin (
 Psychotherapie)\n\nVeranstalterin:\nFrauenLeben e.V. Köln\, Frauenberatun
 gsstelle\n\nAnsprechpartnerin:\nLaura Bianca\, Tel.: 0221 / 954 16 60\, E-
 Mail:\nmail@frauenleben.org\n&nbsp\;\nKosten / Anmeldung:\nUm Anmeldung wi
 rd gebeten. Das Angebot ist kostenfrei.
LOCATION:FrauenLeben\, Venloer Str. 405-407\, 50825 Köln
GEO:50.95189;6.91379
X-APPLE-STRUCTURED-LOCATION;VALUE=URI;X-ADDRESS=Venloer Str. 405-407\, Köl
 n\, 50825\, Frauenorganisation\, Deutschland;X-APPLE-RADIUS=100;X-TITLE=Fr
 auenLeben:geo:50.95189,6.91379
END:VEVENT
BEGIN:VTIMEZONE
TZID:Europe/Berlin
X-LIC-LOCATION:Europe/Berlin
BEGIN:DAYLIGHT
DTSTART:20230326T030000
TZOFFSETFROM:+0100
TZOFFSETTO:+0200
TZNAME:CEST
END:DAYLIGHT
END:VTIMEZONE
END:VCALENDAR