BEGIN:VCALENDAR
VERSION:2.0
PRODID:-//wp-events-plugin.com//7.2.3.1//EN
TZID:Europe/Berlin
X-WR-TIMEZONE:Europe/Berlin
BEGIN:VEVENT
UID:2412@frauenportal.koeln
DTSTART;TZID=Europe/Berlin:20191127T190000
DTEND;TZID=Europe/Berlin:20191127T223000
DTSTAMP:20191111T111810Z
URL:https://frauenportal.koeln/veranstaltungen/vereinbarkeit-beruf-mutter-
 sein-jetzt-konkret-wie-geht-das/
SUMMARY:Vereinbarkeit Beruf & Mutter-Sein. Jetzt konkret: Wie geht das?
DESCRIPTION:Frauen\, die eine Familienplanung anstreben\, wissen wohl um di
 e Veränderung\, die ein Kind mit sich bringt\, gehen aber vielfach davon 
 aus\, dass der neue Lebensabschnitt die bisherige Situation nur zeitweise\
 , zur Elternzeit hin\, tangiert\, sei man doch jetzt gut organisiert und d
 er Partner sei schließlich auch da und teile selbstredend die paritätisc
 hen Erziehungsaufgaben.\n \nBei diesem Clubabend berichtet unsere Clubfrau
  Christine Staedel\, Gründerin und Geschäftsführerin der CS Finance von
  ihren Erfahrungen und welche Stolpersteine beim Wiedereinstieg in das Ber
 ufsleben nach der Geburt des Kindes zu erwarten sind. Sie spricht auch üb
 er das Buch der Philosophin Lisz Hirn "Geht's noch? Warum die konservative
  Wende für Frauen gefährlich ist" und was der neue Konservatismus für F
 eminismus und Gleichstellung bedeuten kann: Denn was ist heutzutage eine 
 „gute Mutti“? Und was bedeutet es Mutter zu sein\, wenn frau gleichzei
 tig berufstätig sein möchte?\n\nBei dieser interaktiven Veranstaltung ka
 nn mitzudiskutiert und von eigenen Erfahrungen berichtet oder können Mein
 ungen ausgetauscht werden.\n\nDer Clubabend ist gleichzeitig ein Get-toget
 her für interessante Gespräche und aktives Netzwerken.\n\nVeranstalterin
 nen:\nBPW Germany Club Köln\n\nAnsprechpartnerin:\nJessica Espinoza\, Tel
 .: 0152 / 36989084\, E-Mail: bpw-koeln@web.de\n\nKosten / Anmeldung:\nDie 
 Plätze sind begrenzt\, daher wird um Anmeldung bis Freitag\, den 22. Nove
 mber 2019 gebeten. Die Teilnahme an der Veranstaltung ist für Mitglieder 
 über den Beitrag gedeckt\; Interessentinnen zahlen 15\,03 Euro.\nHier geh
 t’s zur Anmeldung: https://www.eventbrite.com/e/vereinbarkeit-beruf-mutt
 er-sein-jetzt-konkret-wie-geht-das-tickets-80471944753\n\nVeranstaltungsor
 t:\nCS Finance & Accounting GmbH\, Industriestr. 180\, 50999 Köln-Sürth
END:VEVENT
BEGIN:VTIMEZONE
TZID:Europe/Berlin
X-LIC-LOCATION:Europe/Berlin
BEGIN:STANDARD
DTSTART:20191027T020000
TZOFFSETFROM:+0200
TZOFFSETTO:+0100
TZNAME:CET
END:STANDARD
END:VTIMEZONE
END:VCALENDAR