BEGIN:VCALENDAR
VERSION:2.0
PRODID:-//wp-events-plugin.com//7.2.3.1//EN
TZID:Europe/Berlin
X-WR-TIMEZONE:Europe/Berlin
BEGIN:VEVENT
UID:1211@frauenportal.koeln
DTSTART;TZID=Europe/Berlin:20180902T120000
DTEND;TZID=Europe/Berlin:20180902T140000
DTSTAMP:20180831T140822Z
URL:https://frauenportal.koeln/veranstaltungen/verleihung-des-4-zontacolog
 ne-artaward-an-anna-vogel/
SUMMARY:Verleihung des 4. zontacologne artaward an Anna Vogel
DESCRIPTION:... und Eröffnung der Ausstellung  „citysound“ \n\nSchirmh
 errin: Bettina Böttinger \n\nBegrüßung: Birgitta Weimer\, Bildende Kün
 stlerin und Mitglied des Zonta Club Köln 2008 \n\nLaudator: Gregor Jansen
 \, Direktor der Kunsthalle Düsseldorf \n\nPreisverleihung an Anna Vogel:\
 nDr. Cornelia Hillenherms und Birgit Hansen\, Präsidentinnen der Kölner 
 Zonta Clubs \n\nAusstellung: 2. September bis 16. September 2018\nÖffnung
 szeiten: Mi\, Do\, Fr 14 – 19 Uhr\, Sa u. So 14 – 17 Uhr\n\nwww.zonta-
 art-award.de\n\nHier ist die Einladung: ZCAA 2018 (pdf-Datei\, 151 KB)\n\n
 Veranstalterin:\nZonta Köln\, Arbeitskreis Kunstpreis\, Zonta Clubs Köln
 \n\nAnsprechpartnerin:\nTel.: 0221 / 8231240\, E-Mail: info@zonta-art-awar
 d.de\n\nVeranstaltungsort:\nFuhrwerkswaage Kunstraum e.V.\, Bergstr. 79\, 
 50999 Köln\, [map id=1066]
END:VEVENT
BEGIN:VTIMEZONE
TZID:Europe/Berlin
X-LIC-LOCATION:Europe/Berlin
BEGIN:DAYLIGHT
DTSTART:20180325T030000
TZOFFSETFROM:+0100
TZOFFSETTO:+0200
TZNAME:CEST
END:DAYLIGHT
END:VTIMEZONE
END:VCALENDAR