BEGIN:VCALENDAR
VERSION:2.0
PRODID:-//wp-events-plugin.com//7.2.3.1//EN
TZID:Europe/Berlin
X-WR-TIMEZONE:Europe/Berlin
BEGIN:VEVENT
UID:5048@frauenportal.koeln
DTSTART;TZID=Europe/Berlin:20240503T200000
DTEND;TZID=Europe/Berlin:20240503T223000
DTSTAMP:20240429T092701Z
URL:https://frauenportal.koeln/veranstaltungen/vermillion-blue/
SUMMARY:Vermillion Blue
DESCRIPTION:"Vermillion Blue" ist eine Kölner Band. Sie zeichnet sich aus 
 durch eigenwillige Gesangsmelodien\, rhythmisches Gitarrenspiel\, virtuose
  Soli. Cajon- und andere Percussion-Akzente sowie der spezielle Klang des 
 Chapman Sticks geben jedem Song seinen eigenen Charakter.\nDie Band verarb
 eitet gerne unterschiedliche Stilrichtungen. So finden in den Stücken Ele
 mente des Tangos\, der Jazzballade\, aber auch Einflüsse von Pop\, Reggae
 \, Samba\, Funk und Soul zusammen.\n\nTicket: 18 €\nVVK Kölnticket (www
 .koelnticket.de/eventseries/vermillion-blue-3602839/) oder Abendkasse
END:VEVENT
BEGIN:VTIMEZONE
TZID:Europe/Berlin
X-LIC-LOCATION:Europe/Berlin
BEGIN:DAYLIGHT
DTSTART:20240331T030000
TZOFFSETFROM:+0100
TZOFFSETTO:+0200
TZNAME:CEST
END:DAYLIGHT
END:VTIMEZONE
END:VCALENDAR