BEGIN:VCALENDAR
VERSION:2.0
PRODID:-//wp-events-plugin.com//7.2.3.1//EN
TZID:Europe/Berlin
X-WR-TIMEZONE:Europe/Berlin
BEGIN:VEVENT
UID:389@frauenportal.koeln
DTSTART;TZID=Europe/Berlin:20170505T190000
DTEND;TZID=Europe/Berlin:20170505T210000
DTSTAMP:20180430T233527Z
URL:https://frauenportal.koeln/veranstaltungen/vernissage-frauenbilder-rae
 tselhafte-wesen-5-mai-2017-freitag/
SUMMARY:Vernissage: Frauenbilder – Rätselhafte Wesen 
DESCRIPTION:Vernissage zur Ausstellung mit Collagen und Objekten von Ursula
  Schaper-Wieland\n\nUrsula Schaper-Wieland ist am Bodensee geboren und auf
 gewachsen\, seit 1970 lebt sie in Köln.\nHier begann ihre schöpferische 
 Arbeit.\nSie arbeitete mit Ton und erlernte Aquarell- und Ölmaltechniken.
  Dabei entwickelte sie eigene Ausdrucksmöglichkeiten und ihren eigenen St
 il. Seit 1980 nimmt sie an Ausstellungen teil. Ihre bevorzugten Sujets sin
 d Blumen\, da sie auch eine leidenschaftliche Gärtnerin ist.\n2012 entdec
 kte sie den künstlerischen Reiz von fotografischen Arbeiten\, Collagen un
 d Objekten.\n\nDie jetzige Ausstellung zeigt einen Teil ihrer Collagen und
  Objekte.\n\nDauer der Ausstellung:\nDie Ausstellung ist geöffnet bis 17.
 6. 2017 jeweils donnerstags und samstags von 15 – 18 Uhr\n\nVeranstalter
 innen:\nBeginen Köln e.V.\nIntegrationshaus e.V.\, www.integrationshaus-k
 oeln.de\n\nAnsprechpartnerinnen:\nChristine Müthrath\, Tel.: 0221 / 96558
 20\, E-Mail: info@beginen.de\n\nVeranstaltungsort:\nBeginenfenster\, Markm
 annsgasse 7\, 50667 Köln\, [map id=891]
END:VEVENT
BEGIN:VTIMEZONE
TZID:Europe/Berlin
X-LIC-LOCATION:Europe/Berlin
BEGIN:DAYLIGHT
DTSTART:20170326T030000
TZOFFSETFROM:+0100
TZOFFSETTO:+0200
TZNAME:CEST
END:DAYLIGHT
END:VTIMEZONE
END:VCALENDAR