BEGIN:VCALENDAR
VERSION:2.0
PRODID:-//wp-events-plugin.com//7.2.3.1//EN
TZID:Europe/Berlin
X-WR-TIMEZONE:Europe/Berlin
BEGIN:VEVENT
UID:3529@frauenportal.koeln
DTSTART;TZID=Europe/Berlin:20220206T120000
DTEND;TZID=Europe/Berlin:20220206T150000
DTSTAMP:20221031T102520Z
URL:https://frauenportal.koeln/veranstaltungen/vernissage-gedok-kuenstleri
 nnen-stellen-sich-vor/
SUMMARY:Vernissage: GEDOK-Künstlerinnen stellen sich vor
DESCRIPTION:Angelika Haak und Beate Rosier – zwei Künstlerinnen\, die 20
 20 in die GEDOK KÖLN aufgenommen wurden – stellen sich vor und geben in
  einer Ausstellung einen Einblick in ihr Schaffen.\n\nVernissage: \nSonnta
 g\, 06. Februar 2022 von 12 – 15 Uhr\n\nÖffnungszeiten:\nMittwoch\, 09.
  Februar\, 16 – 19 Uhr\nMittwoch\, 16. Februar\, 16 – 19 Uhr\n\nFiniss
 age: \nSonntag\, 20. Februar 2022\, 12 – 15 Uhr\n\nAngelika Haak\nSie le
 bt und arbeitet in der Nähe von Köln als Videokünstlerin und untersucht
  in ihrer künstlerischen Arbeit die Konstruktion und Dekonstruktion von I
 dentitäten. Im Fokus steht der Mensch\, seine Vorstellungen von normative
 n Idealen\, Handlungsstrukturen und Denkweisen. Ein wesentlicher Grundzug 
 ihrer Arbeit ist das Herauslösen von Subjekten und Objekten aus ihrem rä
 umlichen und sozialen Kontext. \nwww.angelikahaak.de\n\nBeate Rosier\nIn i
 hren Arbeiten beschäftigt sie sich mit Räumen – mit inneren und äusse
 ren Orten im Kontext der Prozesshaftigkeit allen Seins. Elemente der optis
 ch erfahrbaren Welt verflechten sich mit dem diffusen\, individuellen Ausd
 ruck tiefer Emotionen.\nDie Kölner Künstlerin arbeitet mit Tusche\, Öl 
 und Kreide auf Leinwand und Holz.\nwww.beaterosier.com\n\nVeranstalterin:\
 nGEDOK Köln\n\nKontakt:\nGeschäftsstelle der GEDOK Köln\, Tel.: 0221 / 
 43 33 49\, E-Mail: gedokkoeln@t-online.de\n\nVeranstaltungsort:\nGeschäft
 sstelle der GEDOK Köln\, Hochstadenstr. 26\, 50674 Köln\, [map id=887]
END:VEVENT
BEGIN:VTIMEZONE
TZID:Europe/Berlin
X-LIC-LOCATION:Europe/Berlin
BEGIN:STANDARD
DTSTART:20211031T020000
TZOFFSETFROM:+0200
TZOFFSETTO:+0100
TZNAME:CET
END:STANDARD
END:VTIMEZONE
END:VCALENDAR