BEGIN:VCALENDAR
VERSION:2.0
PRODID:-//wp-events-plugin.com//7.2.3.1//EN
TZID:Europe/Berlin
X-WR-TIMEZONE:Europe/Berlin
BEGIN:VEVENT
UID:1105@frauenportal.koeln
DTSTART;TZID=Europe/Berlin:20180511T190000
DTEND;TZID=Europe/Berlin:20180511T210000
DTSTAMP:20180430T234026Z
URL:https://frauenportal.koeln/veranstaltungen/vernissage-im-beginenfenste
 r-tana-ribeiro/
SUMMARY:Vernissage im Beginenfenster: Tana Ribeiro
DESCRIPTION:Tana Ribeiro (* 1967 in Diamantina\, Brasilien)\, studierte von
  2008 – 2012 in Köln Bildende Kunst (Abschluss: Diplom)und hatte zahlre
 iche Ausstellungen im Kölner Umland. Ihre jetzige Ausstellung zeigt Portr
 äts (von starken Frauen) und abstrakte Malerei.\n\n„Porträts und abstr
 akte Bilder haben viel gemeinsam: sie zeigen Charakter\, Präsenz\, Erfahr
 ungen\, auch Gefühle und Träume. Und Poesie! In dieser Ausstellung vermi
 schen sich Formen\, Farben\, Kontraste und Linien und erzählen von Seelen
  und Orten\, ihren Leben\, Freuden\, Sehnsüchten und Ängsten. Die feinen
  Nuancen und die Vielfalt der Malerei kann uns zu einer unausgesprochenen\
 , magischen Poesie führen…“ (Tana Ribeiro) \n\nHier ist der Flyer: Fl
 yer Tana Ribiero 2018 (pdf-Datei\, 261 KB) \n\nDauer der Ausstellung:\nDie
  Ausstellung dauert bis zum 24.06.2018.\nÖffnungszeiten: immer donnerstag
 s 15 – 18 Uhr\, samstags und sonntags 12 – 18 Uhr \n\nVeranstalterinne
 n:\nBeginen Köln e.V.\n\nAnsprechpartnerinnen:\nChristine Müthrath\, Tel
 .: 0221 / 9655820\, E-Mail: info@beginen.de\n\nVeranstaltungsort:\nBeginen
 fenster\, Markmannsgasse 7\, 50667 Köln\, [map id=891]
END:VEVENT
BEGIN:VTIMEZONE
TZID:Europe/Berlin
X-LIC-LOCATION:Europe/Berlin
BEGIN:DAYLIGHT
DTSTART:20180325T030000
TZOFFSETFROM:+0100
TZOFFSETTO:+0200
TZNAME:CEST
END:DAYLIGHT
END:VTIMEZONE
END:VCALENDAR