BEGIN:VCALENDAR
VERSION:2.0
PRODID:-//wp-events-plugin.com//7.2.3.1//EN
TZID:Europe/Berlin
X-WR-TIMEZONE:Europe/Berlin
BEGIN:VEVENT
UID:5011@frauenportal.koeln
DTSTART;TZID=Europe/Berlin:20240412T190000
DTEND;TZID=Europe/Berlin:20240412T210000
DTSTAMP:20240331T070124Z
URL:https://frauenportal.koeln/veranstaltungen/vernissage-kunstausstellung
 -fundstuecke/
SUMMARY:Vernissage Kunstausstellung “Fundstücke”
DESCRIPTION:Malerei – Collage- und Montagearbeiten.\n\nAusstellerinnen:  
  Christa Folk und Tana Ribeieo\n\nVernissage:          Freitag\, 12. April
  2024\, 19.00 Uhr\n\nFinissage:             Sonntag\, 21. April 2024\, 12.
 00 – 16.00\n\nÖffnungszeiten:   Sa\, 13. April\, So\, 14. April und Sa\
 , 20. April\, jeweils von 12.00 – 17.00 Uhr\n\nVeranstalterinnen:\nBegin
 en Köln e.V.\n\nAnsprechpartnerinnen:\nChristine Müthrath\, Tel.: 0221 /
  9655820\, E-Mail: info@beginen.de
LOCATION:Beginenfenster Köln\, Markmannsgasse 7\, 50667 Köln
GEO:50.936778;6.961977
X-APPLE-STRUCTURED-LOCATION;VALUE=URI;X-ADDRESS=Markmannsgasse 7\, Köln\, 
 50667\, Frauenorganisation\, Deutschland;X-APPLE-RADIUS=100;X-TITLE=Begine
 nfenster Köln:geo:50.936778,6.961977
END:VEVENT
BEGIN:VTIMEZONE
TZID:Europe/Berlin
X-LIC-LOCATION:Europe/Berlin
BEGIN:DAYLIGHT
DTSTART:20240331T030000
TZOFFSETFROM:+0100
TZOFFSETTO:+0200
TZNAME:CEST
END:DAYLIGHT
END:VTIMEZONE
END:VCALENDAR